BEGIN:VCALENDAR
VERSION:2.0
PRODID:-//Bürgerfunk Moers - ECPv6.15.11//NONSGML v1.0//EN
CALSCALE:GREGORIAN
METHOD:PUBLISH
X-WR-CALNAME:Bürgerfunk Moers
X-ORIGINAL-URL:https://www.buergerfunk-moers.de
X-WR-CALDESC:Veranstaltungen für Bürgerfunk Moers
REFRESH-INTERVAL;VALUE=DURATION:PT1H
X-Robots-Tag:noindex
X-PUBLISHED-TTL:PT1H
BEGIN:VTIMEZONE
TZID:Europe/Berlin
BEGIN:DAYLIGHT
TZOFFSETFROM:+0100
TZOFFSETTO:+0200
TZNAME:CEST
DTSTART:20240331T010000
END:DAYLIGHT
BEGIN:STANDARD
TZOFFSETFROM:+0200
TZOFFSETTO:+0100
TZNAME:CET
DTSTART:20241027T010000
END:STANDARD
BEGIN:DAYLIGHT
TZOFFSETFROM:+0100
TZOFFSETTO:+0200
TZNAME:CEST
DTSTART:20250330T010000
END:DAYLIGHT
BEGIN:STANDARD
TZOFFSETFROM:+0200
TZOFFSETTO:+0100
TZNAME:CET
DTSTART:20251026T010000
END:STANDARD
BEGIN:DAYLIGHT
TZOFFSETFROM:+0100
TZOFFSETTO:+0200
TZNAME:CEST
DTSTART:20260329T010000
END:DAYLIGHT
BEGIN:STANDARD
TZOFFSETFROM:+0200
TZOFFSETTO:+0100
TZNAME:CET
DTSTART:20261025T010000
END:STANDARD
END:VTIMEZONE
BEGIN:VEVENT
DTSTART;TZID=Europe/Berlin:20251226T190400
DTEND;TZID=Europe/Berlin:20251226T195600
DTSTAMP:20260422T104247
CREATED:20251204T133043Z
LAST-MODIFIED:20251221T105848Z
UID:9156-1766775840-1766778960@www.buergerfunk-moers.de
SUMMARY:Bürgerradio Meerbeck/Hochstraß: Das Jahr 2025
DESCRIPTION:Bild: Chat GPT \nUnsere letzte Sendung aus dem Jahr 2025. Wir haben mit Ihnen zusammen einiges erlebt. In dieser Sendung schwelgen wir noch einmal mit Ihnen in den Erinnerungen von 2025. Zudem unterhalten wir uns über weihnachtliche Traditionen und beschließen die Sendungen mit Gedichten von Hanns-Dieter Hüsch.
URL:https://www.buergerfunk-moers.de/event/buergerradio-meerbeck-hochstrass-das-jahr-2025/
ATTACH;FMTTYPE=image/png:https://www.buergerfunk-moers.de/wp-content/uploads/2025/12/CDCAB5CE-B551-4107-8247-E038407C2FA2.png
ORGANIZER;CN="AK Moers":MAILTO:info@buergerfunk-radiokw.de
END:VEVENT
END:VCALENDAR