BEGIN:VCALENDAR
VERSION:2.0
PRODID:-//Bürgerfunk Moers - ECPv6.15.11//NONSGML v1.0//EN
CALSCALE:GREGORIAN
METHOD:PUBLISH
X-WR-CALNAME:Bürgerfunk Moers
X-ORIGINAL-URL:https://www.buergerfunk-moers.de
X-WR-CALDESC:Veranstaltungen für Bürgerfunk Moers
REFRESH-INTERVAL;VALUE=DURATION:PT1H
X-Robots-Tag:noindex
X-PUBLISHED-TTL:PT1H
BEGIN:VTIMEZONE
TZID:Europe/Berlin
BEGIN:DAYLIGHT
TZOFFSETFROM:+0100
TZOFFSETTO:+0200
TZNAME:CEST
DTSTART:20240331T010000
END:DAYLIGHT
BEGIN:STANDARD
TZOFFSETFROM:+0200
TZOFFSETTO:+0100
TZNAME:CET
DTSTART:20241027T010000
END:STANDARD
BEGIN:DAYLIGHT
TZOFFSETFROM:+0100
TZOFFSETTO:+0200
TZNAME:CEST
DTSTART:20250330T010000
END:DAYLIGHT
BEGIN:STANDARD
TZOFFSETFROM:+0200
TZOFFSETTO:+0100
TZNAME:CET
DTSTART:20251026T010000
END:STANDARD
BEGIN:DAYLIGHT
TZOFFSETFROM:+0100
TZOFFSETTO:+0200
TZNAME:CEST
DTSTART:20260329T010000
END:DAYLIGHT
BEGIN:STANDARD
TZOFFSETFROM:+0200
TZOFFSETTO:+0100
TZNAME:CET
DTSTART:20261025T010000
END:STANDARD
END:VTIMEZONE
BEGIN:VEVENT
DTSTART;TZID=Europe/Berlin:20251214T190400
DTEND;TZID=Europe/Berlin:20251214T195600
DTSTAMP:20260422T102800
CREATED:20251207T101412Z
LAST-MODIFIED:20251209T190211Z
UID:9170-1765739040-1765742160@www.buergerfunk-moers.de
SUMMARY:Bürgerradio Meerbeck/Hochstraß: Die 50. Sendung
DESCRIPTION:Bild: Chat GPT \nDas Bürgerradio Meerbeck/Hochstraß ist mittlerweile fünf Jahre alt und wir feiern mit Ihnen die 50. Sendung. Warum wurde das Bürgerradio ins Leben gerufen? Was haben wir mit Ihnen alles erlebt? In dieser Sendung fassen wir mit Ihnen gemeinsam alle Highlights zusammen. Dazu gibt es passende Musik aus allen Genres.
URL:https://www.buergerfunk-moers.de/event/buergerradio-meerbeck-hochstrass-die-50-sendung/
ATTACH;FMTTYPE=image/png:https://www.buergerfunk-moers.de/wp-content/uploads/2025/12/CF6170C6-C706-4FC8-AAB5-2BEB0655EC07.png
ORGANIZER;CN="AK Moers":MAILTO:info@buergerfunk-radiokw.de
END:VEVENT
END:VCALENDAR