BEGIN:VCALENDAR
VERSION:2.0
PRODID:-//Bürgerfunk Moers - ECPv6.15.11//NONSGML v1.0//EN
CALSCALE:GREGORIAN
METHOD:PUBLISH
X-WR-CALNAME:Bürgerfunk Moers
X-ORIGINAL-URL:https://www.buergerfunk-moers.de
X-WR-CALDESC:Veranstaltungen für Bürgerfunk Moers
REFRESH-INTERVAL;VALUE=DURATION:PT1H
X-Robots-Tag:noindex
X-PUBLISHED-TTL:PT1H
BEGIN:VTIMEZONE
TZID:Europe/Berlin
BEGIN:DAYLIGHT
TZOFFSETFROM:+0100
TZOFFSETTO:+0200
TZNAME:CEST
DTSTART:20240331T010000
END:DAYLIGHT
BEGIN:STANDARD
TZOFFSETFROM:+0200
TZOFFSETTO:+0100
TZNAME:CET
DTSTART:20241027T010000
END:STANDARD
BEGIN:DAYLIGHT
TZOFFSETFROM:+0100
TZOFFSETTO:+0200
TZNAME:CEST
DTSTART:20250330T010000
END:DAYLIGHT
BEGIN:STANDARD
TZOFFSETFROM:+0200
TZOFFSETTO:+0100
TZNAME:CET
DTSTART:20251026T010000
END:STANDARD
BEGIN:DAYLIGHT
TZOFFSETFROM:+0100
TZOFFSETTO:+0200
TZNAME:CEST
DTSTART:20260329T010000
END:DAYLIGHT
BEGIN:STANDARD
TZOFFSETFROM:+0200
TZOFFSETTO:+0100
TZNAME:CET
DTSTART:20261025T010000
END:STANDARD
END:VTIMEZONE
BEGIN:VEVENT
DTSTART;TZID=Europe/Berlin:20251109T190400
DTEND;TZID=Europe/Berlin:20251109T195600
DTSTAMP:20260420T143411
CREATED:20251102T115737Z
LAST-MODIFIED:20251103T022222Z
UID:8977-1762715040-1762718160@www.buergerfunk-moers.de
SUMMARY:Bürgerradio Meerbeck/Hochstraß mit einem Halloween-Special
DESCRIPTION:Bild: Chat GPT \nHalloween erfreut sich in Deutschland immer größerer Beliebtheit. Auch im Stadtteil Moers-Meerbeck und Hochstraß wurde die Kolonie reichlich geschmückt. Wir berichten zudem über einen Ausflug\, indem Markus\, Björn und Holger facettenreiche Kostüme für Halloween bestaunten. Zum Abschluss der Sendung haben wir für Sie drei gruselige Geschichten auf Lager\, wo Sie zuhause mit raten dürfen\, ob die Geschichte wahr oder falsch ist. Also einsteigen und dabei sein in unserem Halloween-Special.
URL:https://www.buergerfunk-moers.de/event/buergerradio-meerbeck-hochstrass-mit-einem-halloween-special/
ATTACH;FMTTYPE=image/jpeg:https://www.buergerfunk-moers.de/wp-content/uploads/2025/11/WhatsApp-Image-2025-11-02-at-12.52.27.jpeg
ORGANIZER;CN="AK Moers":MAILTO:info@buergerfunk-radiokw.de
END:VEVENT
END:VCALENDAR