BEGIN:VCALENDAR
VERSION:2.0
PRODID:-//Bürgerfunk Moers - ECPv6.15.11//NONSGML v1.0//EN
CALSCALE:GREGORIAN
METHOD:PUBLISH
X-ORIGINAL-URL:https://www.buergerfunk-moers.de
X-WR-CALDESC:Veranstaltungen für Bürgerfunk Moers
REFRESH-INTERVAL;VALUE=DURATION:PT1H
X-Robots-Tag:noindex
X-PUBLISHED-TTL:PT1H
BEGIN:VTIMEZONE
TZID:Europe/Berlin
BEGIN:DAYLIGHT
TZOFFSETFROM:+0100
TZOFFSETTO:+0200
TZNAME:CEST
DTSTART:20240331T010000
END:DAYLIGHT
BEGIN:STANDARD
TZOFFSETFROM:+0200
TZOFFSETTO:+0100
TZNAME:CET
DTSTART:20241027T010000
END:STANDARD
BEGIN:DAYLIGHT
TZOFFSETFROM:+0100
TZOFFSETTO:+0200
TZNAME:CEST
DTSTART:20250330T010000
END:DAYLIGHT
BEGIN:STANDARD
TZOFFSETFROM:+0200
TZOFFSETTO:+0100
TZNAME:CET
DTSTART:20251026T010000
END:STANDARD
BEGIN:DAYLIGHT
TZOFFSETFROM:+0100
TZOFFSETTO:+0200
TZNAME:CEST
DTSTART:20260329T010000
END:DAYLIGHT
BEGIN:STANDARD
TZOFFSETFROM:+0200
TZOFFSETTO:+0100
TZNAME:CET
DTSTART:20261025T010000
END:STANDARD
END:VTIMEZONE
BEGIN:VEVENT
DTSTART;TZID=Europe/Berlin:20251104T200400
DTEND;TZID=Europe/Berlin:20251104T205600
DTSTAMP:20260424T120408
CREATED:20251022T160640Z
LAST-MODIFIED:20260421T133607Z
UID:8949-1762286640-1762289760@www.buergerfunk-moers.de
SUMMARY:Lions Club Rheurdt/Niederrhein
DESCRIPTION:Foto: Lions Club \nDer Lions Club Rheurdt/Niederrhein wurde vor 35 Jahren von damals 26 Frauen in Rheurdt gegründet und hat seither mit den Einnahmen aus seinen Aktivitäten viele hundert Sozialprojekte gefördert. Am 7. November lädt er anlässlich seines Geburtstages zu einem Benefizkonzert mit dem Landespolizeiorchester NRW in die Kulturhalle Moers Rheinkamp ein.
URL:https://www.buergerfunk-moers.de/event/lions-club-rheurdt-niederrhein/
ATTACH;FMTTYPE=image/jpeg:https://www.buergerfunk-moers.de/wp-content/uploads/2025/10/Lions-Ccub-23.10.25--scaled.jpg
ORGANIZER;CN="AK Moers":MAILTO:info@buergerfunk-radiokw.de
END:VEVENT
END:VCALENDAR