BEGIN:VCALENDAR
VERSION:2.0
PRODID:-//Bürgerfunk Moers - ECPv6.15.11//NONSGML v1.0//EN
CALSCALE:GREGORIAN
METHOD:PUBLISH
X-WR-CALNAME:Bürgerfunk Moers
X-ORIGINAL-URL:https://www.buergerfunk-moers.de
X-WR-CALDESC:Veranstaltungen für Bürgerfunk Moers
REFRESH-INTERVAL;VALUE=DURATION:PT1H
X-Robots-Tag:noindex
X-PUBLISHED-TTL:PT1H
BEGIN:VTIMEZONE
TZID:Europe/Berlin
BEGIN:DAYLIGHT
TZOFFSETFROM:+0100
TZOFFSETTO:+0200
TZNAME:CEST
DTSTART:20240331T010000
END:DAYLIGHT
BEGIN:STANDARD
TZOFFSETFROM:+0200
TZOFFSETTO:+0100
TZNAME:CET
DTSTART:20241027T010000
END:STANDARD
BEGIN:DAYLIGHT
TZOFFSETFROM:+0100
TZOFFSETTO:+0200
TZNAME:CEST
DTSTART:20250330T010000
END:DAYLIGHT
BEGIN:STANDARD
TZOFFSETFROM:+0200
TZOFFSETTO:+0100
TZNAME:CET
DTSTART:20251026T010000
END:STANDARD
BEGIN:DAYLIGHT
TZOFFSETFROM:+0100
TZOFFSETTO:+0200
TZNAME:CEST
DTSTART:20260329T010000
END:DAYLIGHT
BEGIN:STANDARD
TZOFFSETFROM:+0200
TZOFFSETTO:+0100
TZNAME:CET
DTSTART:20261025T010000
END:STANDARD
END:VTIMEZONE
BEGIN:VEVENT
DTSTART;TZID=Europe/Berlin:20251010T200400
DTEND;TZID=Europe/Berlin:20251010T205600
DTSTAMP:20260420T161658
CREATED:20250925T180647Z
LAST-MODIFIED:20251005T004302Z
UID:8810-1760126640-1760129760@www.buergerfunk-moers.de
SUMMARY:Ortsgespräche Rheinberg: Regulierung Salzbergbauschäden
DESCRIPTION:Bild: Torsten Schaefer/Presse K&S \nPeter Immikus ist Marktscheider und Bausachverständiger für den Bergbau. Er beantwortet die Fragen: Wie entstehen Bergbauschäden und was zählt zu den Schäden durch den Salzabbau? Nicht nur Gebäude sind betroffen\, auch die Landwirtschaft und Leib und Leben der Menschen sind gefährdet\, weiß Peter Immikus. Die Schäden werden immer größer und die Regulierung\, zu der die Bergbaubetreiber gesetzlich verpflichtet sind\, immer schwieriger. Deshalb wünscht sich die „Bürgerinitiative Salzbergbaugeschädigte“ Unterstützung von Betroffenen\, die ihr Unterlagen von Schäden\, auch nachdem sie einen Schaden angemeldet haben\, zur Verfügung stellt oder was Sie gehört haben\, damit sie helfen kann. Ihr Name bleibt außen vor\, aber es ist wichtig\, vor Gericht zu zeigen\, wie Geschädigte abgespeist werden durch den Bergbaubetreiber und wie das Lebenswerk von Menschen\, Häuser und Eigentum zerstört werden. Geschädigte werden mit Almosen abgespeist lt. Bürgerinitiative und müssen horrende Summen für Gutachten zahlen.
URL:https://www.buergerfunk-moers.de/event/ortsgespraeche-rheinberg-51/
ATTACH;FMTTYPE=image/jpeg:https://www.buergerfunk-moers.de/wp-content/uploads/2024/07/1-Karl-Heinz-Kamps-scaled-e1722949074968.jpg
END:VEVENT
END:VCALENDAR