BEGIN:VCALENDAR
VERSION:2.0
PRODID:-//Bürgerfunk Moers - ECPv6.15.11//NONSGML v1.0//EN
CALSCALE:GREGORIAN
METHOD:PUBLISH
X-ORIGINAL-URL:https://www.buergerfunk-moers.de
X-WR-CALDESC:Veranstaltungen für Bürgerfunk Moers
REFRESH-INTERVAL;VALUE=DURATION:PT1H
X-Robots-Tag:noindex
X-PUBLISHED-TTL:PT1H
BEGIN:VTIMEZONE
TZID:Europe/Berlin
BEGIN:DAYLIGHT
TZOFFSETFROM:+0100
TZOFFSETTO:+0200
TZNAME:CEST
DTSTART:20240331T010000
END:DAYLIGHT
BEGIN:STANDARD
TZOFFSETFROM:+0200
TZOFFSETTO:+0100
TZNAME:CET
DTSTART:20241027T010000
END:STANDARD
BEGIN:DAYLIGHT
TZOFFSETFROM:+0100
TZOFFSETTO:+0200
TZNAME:CEST
DTSTART:20250330T010000
END:DAYLIGHT
BEGIN:STANDARD
TZOFFSETFROM:+0200
TZOFFSETTO:+0100
TZNAME:CET
DTSTART:20251026T010000
END:STANDARD
BEGIN:DAYLIGHT
TZOFFSETFROM:+0100
TZOFFSETTO:+0200
TZNAME:CEST
DTSTART:20260329T010000
END:DAYLIGHT
BEGIN:STANDARD
TZOFFSETFROM:+0200
TZOFFSETTO:+0100
TZNAME:CET
DTSTART:20261025T010000
END:STANDARD
END:VTIMEZONE
BEGIN:VEVENT
DTSTART;TZID=Europe/Berlin:20251006T200400
DTEND;TZID=Europe/Berlin:20251006T205600
DTSTAMP:20260422T104626
CREATED:20250925T175705Z
LAST-MODIFIED:20251114T183326Z
UID:8800-1759781040-1759784160@www.buergerfunk-moers.de
SUMMARY:FFF Magazin für Fahrrad\, Freizeit\, Fitness
DESCRIPTION:Collage: C.K. \nDas Magazin für Fahrrad\, Freizeit\, Fitness. Unsere Themen: Mehr Parkplätze für´s Rad in Moers gesucht – Ideenergebnis\, Pedelec-Fahrsicherheitstraining der Polizei in den Herbstferien\, Lastenräder als Werbeträger – das MIRA und Quartier-Service Neu_Meerbeck\, Wanderung Kunst- und Industriekultur zum „Geleucht“ auf der Halde Rheinpreußen\, Eröffnung der „Cölve“-Brücke\, die letzten Fahrrad-Codiertermine 2025 in Moers und Neukirchen-Vluyn.
URL:https://www.buergerfunk-moers.de/event/fff-magazin-fuer-fahrrad-freizeit-fitness-70/
ATTACH;FMTTYPE=image/jpeg:https://www.buergerfunk-moers.de/wp-content/uploads/2025/09/1-2025-10-01-scaled.jpg
ORGANIZER;CN="AK Moers":MAILTO:info@buergerfunk-radiokw.de
END:VEVENT
END:VCALENDAR