BEGIN:VCALENDAR
VERSION:2.0
PRODID:-//Bürgerfunk Moers - ECPv6.15.11//NONSGML v1.0//EN
CALSCALE:GREGORIAN
METHOD:PUBLISH
X-WR-CALNAME:Bürgerfunk Moers
X-ORIGINAL-URL:https://www.buergerfunk-moers.de
X-WR-CALDESC:Veranstaltungen für Bürgerfunk Moers
REFRESH-INTERVAL;VALUE=DURATION:PT1H
X-Robots-Tag:noindex
X-PUBLISHED-TTL:PT1H
BEGIN:VTIMEZONE
TZID:Europe/Berlin
BEGIN:DAYLIGHT
TZOFFSETFROM:+0100
TZOFFSETTO:+0200
TZNAME:CEST
DTSTART:20240331T010000
END:DAYLIGHT
BEGIN:STANDARD
TZOFFSETFROM:+0200
TZOFFSETTO:+0100
TZNAME:CET
DTSTART:20241027T010000
END:STANDARD
BEGIN:DAYLIGHT
TZOFFSETFROM:+0100
TZOFFSETTO:+0200
TZNAME:CEST
DTSTART:20250330T010000
END:DAYLIGHT
BEGIN:STANDARD
TZOFFSETFROM:+0200
TZOFFSETTO:+0100
TZNAME:CET
DTSTART:20251026T010000
END:STANDARD
BEGIN:DAYLIGHT
TZOFFSETFROM:+0100
TZOFFSETTO:+0200
TZNAME:CEST
DTSTART:20260329T010000
END:DAYLIGHT
BEGIN:STANDARD
TZOFFSETFROM:+0200
TZOFFSETTO:+0100
TZNAME:CET
DTSTART:20261025T010000
END:STANDARD
END:VTIMEZONE
BEGIN:VEVENT
DTSTART;TZID=Europe/Berlin:20250815T200400
DTEND;TZID=Europe/Berlin:20250815T205600
DTSTAMP:20260424T113056
CREATED:20250811T004013Z
LAST-MODIFIED:20250811T004218Z
UID:8617-1755288240-1755291360@www.buergerfunk-moers.de
SUMMARY:Para-Dressurreiterin Regine Mispelkamps Spendenaufruf 100 x 100
DESCRIPTION:Foto: H.Hau \nRegine Mispelkamp aus Geldern ist eine deutsche Para-Dressurreiterin mit einer Medailliensammlung von den Paralympics. Die Pferdewirtschaftsmeisterin und Dipl. Trainerin des DOSB (Deutscher Olympischer Sportbund) lebt seit mehr als 20 Jahren mit Multipler Sklerose (MS). Die Diagnose MS kann ihre Begeisterung für den Reitsport nicht stoppen. Der Para-Sport soll mehr in die Öffentlichkeit kommen denn es ist erstaunlich\, was Menschen mit Einschränkungen leisten können. Dazu gibt´s jetzt die Spendenaktion 100 x 100. Was sich dahinter verbirgt\, hat Regine Mispelkamp unserem Moderator Harald Hau verraten.
URL:https://www.buergerfunk-moers.de/event/para-dressurreiterin-regine-mispelkamps-spendenaufruf-100-x-100/
ATTACH;FMTTYPE=image/jpeg:https://www.buergerfunk-moers.de/wp-content/uploads/2025/08/IMG-20250804-WA0000-e1754872786792.jpg
END:VEVENT
END:VCALENDAR