BEGIN:VCALENDAR
VERSION:2.0
PRODID:-//Bürgerfunk Moers - ECPv6.15.11//NONSGML v1.0//EN
CALSCALE:GREGORIAN
METHOD:PUBLISH
X-WR-CALNAME:Bürgerfunk Moers
X-ORIGINAL-URL:https://www.buergerfunk-moers.de
X-WR-CALDESC:Veranstaltungen für Bürgerfunk Moers
REFRESH-INTERVAL;VALUE=DURATION:PT1H
X-Robots-Tag:noindex
X-PUBLISHED-TTL:PT1H
BEGIN:VTIMEZONE
TZID:Europe/Berlin
BEGIN:DAYLIGHT
TZOFFSETFROM:+0100
TZOFFSETTO:+0200
TZNAME:CEST
DTSTART:20240331T010000
END:DAYLIGHT
BEGIN:STANDARD
TZOFFSETFROM:+0200
TZOFFSETTO:+0100
TZNAME:CET
DTSTART:20241027T010000
END:STANDARD
BEGIN:DAYLIGHT
TZOFFSETFROM:+0100
TZOFFSETTO:+0200
TZNAME:CEST
DTSTART:20250330T010000
END:DAYLIGHT
BEGIN:STANDARD
TZOFFSETFROM:+0200
TZOFFSETTO:+0100
TZNAME:CET
DTSTART:20251026T010000
END:STANDARD
BEGIN:DAYLIGHT
TZOFFSETFROM:+0100
TZOFFSETTO:+0200
TZNAME:CEST
DTSTART:20260329T010000
END:DAYLIGHT
BEGIN:STANDARD
TZOFFSETFROM:+0200
TZOFFSETTO:+0100
TZNAME:CET
DTSTART:20261025T010000
END:STANDARD
END:VTIMEZONE
BEGIN:VEVENT
DTSTART;TZID=Europe/Berlin:20250520T200400
DTEND;TZID=Europe/Berlin:20250520T205600
DTSTAMP:20260424T102122
CREATED:20250519T002727Z
LAST-MODIFIED:20250519T154620Z
UID:8329-1747771440-1747774560@www.buergerfunk-moers.de
SUMMARY:Karate-Athletin Rabea Stang
DESCRIPTION:Fotos: Annika Schopmann/H.Hau \nAnfang Mai hat Rabea Stang den 1. Platz erkämpft bei der Cologne Open\, dem Internationalen Karate Turnier in Köln. Rabea Stang ist Fitnesstrainerin und eine erfolgreiche Karate-Athletin im KENSHO in Neukirchen-Vluyn\, dem Karate Center of Excellence Nordrheinwestfalen. Sie verbindet ihre Leidenschaft für Sport und Bewegung auf faszinierende Weise. Was sie an dieser Sportart begeistert und mehr über Karate\, verrät sie unserem Moderator Harald Hau. \n 
URL:https://www.buergerfunk-moers.de/event/karate-athletin-rabea-stang/
ATTACH;FMTTYPE=image/jpeg:https://www.buergerfunk-moers.de/wp-content/uploads/2025/05/1-2025-05-19-scaled-e1747669565349.jpg
END:VEVENT
END:VCALENDAR