BEGIN:VCALENDAR
VERSION:2.0
PRODID:-//Bürgerfunk Moers - ECPv6.15.11//NONSGML v1.0//EN
CALSCALE:GREGORIAN
METHOD:PUBLISH
X-WR-CALNAME:Bürgerfunk Moers
X-ORIGINAL-URL:https://www.buergerfunk-moers.de
X-WR-CALDESC:Veranstaltungen für Bürgerfunk Moers
REFRESH-INTERVAL;VALUE=DURATION:PT1H
X-Robots-Tag:noindex
X-PUBLISHED-TTL:PT1H
BEGIN:VTIMEZONE
TZID:Europe/Berlin
BEGIN:DAYLIGHT
TZOFFSETFROM:+0100
TZOFFSETTO:+0200
TZNAME:CEST
DTSTART:20240331T010000
END:DAYLIGHT
BEGIN:STANDARD
TZOFFSETFROM:+0200
TZOFFSETTO:+0100
TZNAME:CET
DTSTART:20241027T010000
END:STANDARD
BEGIN:DAYLIGHT
TZOFFSETFROM:+0100
TZOFFSETTO:+0200
TZNAME:CEST
DTSTART:20250330T010000
END:DAYLIGHT
BEGIN:STANDARD
TZOFFSETFROM:+0200
TZOFFSETTO:+0100
TZNAME:CET
DTSTART:20251026T010000
END:STANDARD
BEGIN:DAYLIGHT
TZOFFSETFROM:+0100
TZOFFSETTO:+0200
TZNAME:CEST
DTSTART:20260329T010000
END:DAYLIGHT
BEGIN:STANDARD
TZOFFSETFROM:+0200
TZOFFSETTO:+0100
TZNAME:CET
DTSTART:20261025T010000
END:STANDARD
END:VTIMEZONE
BEGIN:VEVENT
DTSTART;TZID=Europe/Berlin:20250414T200400
DTEND;TZID=Europe/Berlin:20250414T205600
DTSTAMP:20260424T115137
CREATED:20250401T162356Z
LAST-MODIFIED:20250401T162356Z
UID:8143-1744661040-1744664160@www.buergerfunk-moers.de
SUMMARY:Jede Menge Kultur in Moers
DESCRIPTION:Foto: Bettina Engel-Albustin (Kulturbüro Moers) \nEva Marxen\, Katja Roters und Inka Rütters — das sind die Mitarbeiterinnen des Kulturbüros Moers. Sie bemühen sich nicht nur um eine breit angelegte Plattform sowie ein umfassendes Netzwerk für alle Moerser Kulturschaffenden\, sie suchen auch nach Fördertöpfen und Programmen\, damit viele Ideen umgesetzt werden können. Dabei liegt ein großes Augenmerk auch auf den Kulturangeboten für Kinder und Jugendliche. Von „Kukita“ (Künstler*innen in die Kindertagesstätten) über die „Kulturstrolche“\, „Kultur und Schule“ das MOVE-Festival sowie den „Kulturrucksack“ werden in dieser Sendung die wichtigsten Angebote vorgestellt.
URL:https://www.buergerfunk-moers.de/event/jede-menge-kultur-in-moers/
ATTACH;FMTTYPE=image/jpeg:https://www.buergerfunk-moers.de/wp-content/uploads/2025/04/Kulturbuero.jpg
ORGANIZER;CN="AK Moers":MAILTO:info@buergerfunk-radiokw.de
END:VEVENT
END:VCALENDAR