BEGIN:VCALENDAR
VERSION:2.0
PRODID:-//Bürgerfunk Moers - ECPv6.15.11//NONSGML v1.0//EN
CALSCALE:GREGORIAN
METHOD:PUBLISH
X-ORIGINAL-URL:http://www.buergerfunk-moers.de
X-WR-CALDESC:Veranstaltungen für Bürgerfunk Moers
REFRESH-INTERVAL;VALUE=DURATION:PT1H
X-Robots-Tag:noindex
X-PUBLISHED-TTL:PT1H
BEGIN:VTIMEZONE
TZID:Europe/Berlin
BEGIN:DAYLIGHT
TZOFFSETFROM:+0100
TZOFFSETTO:+0200
TZNAME:CEST
DTSTART:20250330T010000
END:DAYLIGHT
BEGIN:STANDARD
TZOFFSETFROM:+0200
TZOFFSETTO:+0100
TZNAME:CET
DTSTART:20251026T010000
END:STANDARD
BEGIN:DAYLIGHT
TZOFFSETFROM:+0100
TZOFFSETTO:+0200
TZNAME:CEST
DTSTART:20260329T010000
END:DAYLIGHT
BEGIN:STANDARD
TZOFFSETFROM:+0200
TZOFFSETTO:+0100
TZNAME:CET
DTSTART:20261025T010000
END:STANDARD
BEGIN:DAYLIGHT
TZOFFSETFROM:+0100
TZOFFSETTO:+0200
TZNAME:CEST
DTSTART:20270328T010000
END:DAYLIGHT
BEGIN:STANDARD
TZOFFSETFROM:+0200
TZOFFSETTO:+0100
TZNAME:CET
DTSTART:20271031T010000
END:STANDARD
END:VTIMEZONE
BEGIN:VEVENT
DTSTART;TZID=Europe/Berlin:20260102T200400
DTEND;TZID=Europe/Berlin:20260102T205600
DTSTAMP:20260421T121320
CREATED:20251203T132829Z
LAST-MODIFIED:20251227T190506Z
UID:9141-1767384240-1767387360@www.buergerfunk-moers.de
SUMMARY:Pferde\, Land & Leute
DESCRIPTION:Foto: K.Pohl \nNeues von der Heartland Ranch mit Tom Büchel und Karin Pohl am Mikrofon. HEARTLAND ist ein Treffpunkt für alle Freunde guten Reitens und Horsemanship. Neben Reitunterricht werden Kurse und Seminare rund ums Pferd angeboten gemäß dem Motto: „…ride with your heart!“ Sie erfahren\, was 2026 geplant ist und es gibt Tipps für Reiter*innen und Pferde in der kalten Jahreszeit.
URL:http://www.buergerfunk-moers.de/event/pferde-land-leute-50/
ATTACH;FMTTYPE=image/jpeg:http://www.buergerfunk-moers.de/wp-content/uploads/2022/06/index1-e1656359132365.jpg
ORGANIZER;CN="AK Moers":MAILTO:info@buergerfunk-radiokw.de
END:VEVENT
BEGIN:VEVENT
DTSTART;TZID=Europe/Berlin:20260103T200400
DTEND;TZID=Europe/Berlin:20260103T205600
DTSTAMP:20260421T121320
CREATED:20251203T132636Z
LAST-MODIFIED:20251203T132636Z
UID:9139-1767470640-1767473760@www.buergerfunk-moers.de
SUMMARY:Ad Libitum\, Elektronische Musik
DESCRIPTION:Foto: D. Keller privat \nElektronische Musik von gestern\, heute und morgen\, von und mit Detlef Keller. Interessierte können eigene Musik-Files einsenden\, die in den Sendungen veröffentlicht werden.
URL:http://www.buergerfunk-moers.de/event/ad-libitum-elektronische-musik-74/
ATTACH;FMTTYPE=image/jpeg:http://www.buergerfunk-moers.de/wp-content/uploads/2025/11/Det-Studio-01.jpg
ORGANIZER;CN="AK Moers":MAILTO:info@buergerfunk-radiokw.de
END:VEVENT
BEGIN:VEVENT
DTSTART;TZID=Europe/Berlin:20260105T200400
DTEND;TZID=Europe/Berlin:20260105T205600
DTSTAMP:20260421T121320
CREATED:20251219T195107Z
LAST-MODIFIED:20251219T195304Z
UID:9217-1767643440-1767646560@www.buergerfunk-moers.de
SUMMARY:FFF Magazin für Fahrrad\, Freizeit\, Fitness
DESCRIPTION:Das Magazin für Fahrrad\, Freizeit\, Fitness. Wir blicken zurück auf die Highlights aus dem Radeljahr 2025.
URL:http://www.buergerfunk-moers.de/event/fff-magazin-fuer-fahrrad-freizeit-fitness-73/
END:VEVENT
BEGIN:VEVENT
DTSTART;TZID=Europe/Berlin:20260106T200400
DTEND;TZID=Europe/Berlin:20260106T205600
DTSTAMP:20260421T121320
CREATED:20251114T183824Z
LAST-MODIFIED:20260104T004654Z
UID:9054-1767729840-1767732960@www.buergerfunk-moers.de
SUMMARY:Kultur – Report
DESCRIPTION:Foto: Konrad Göke privat \nKonrad Göke widmet sich ausgewählten Künstlerinnen und Künstlern. Der Fokus liegt heute auf Chris Rea und Brigitte Bardot\, die im Dezember 2025 verstorben sind. Chris Rea\, der britische Rock- und Bluessänger mit der rauchigen Stimme\, war auch Komponist\, Pianist und Gitarrist. Brigitte Bardot\, eine französische Filmschauspielerin und Sängerin\, verkörperte das Sexsymbol der 50er und 60er Jahre.
URL:http://www.buergerfunk-moers.de/event/kultur-report-74/
ATTACH;FMTTYPE=image/jpeg:http://www.buergerfunk-moers.de/wp-content/uploads/2025/05/20200201KW-02-1-e1747947346727.jpg
ORGANIZER;CN="AK Moers":MAILTO:info@buergerfunk-radiokw.de
END:VEVENT
BEGIN:VEVENT
DTSTART;TZID=Europe/Berlin:20260107T200400
DTEND;TZID=Europe/Berlin:20260107T205600
DTSTAMP:20260421T121320
CREATED:20251203T133307Z
LAST-MODIFIED:20251203T133308Z
UID:9143-1767816240-1767819360@www.buergerfunk-moers.de
SUMMARY:Was ist los im Kreis Wesel
DESCRIPTION:Antworten auf diese Frage gibt´s im Magazin aus Neukirchen-Vluyn und dazu viel Oldie-Musik. \n  \n 
URL:http://www.buergerfunk-moers.de/event/was-ist-los-im-kreis-wesel-324/
ATTACH;FMTTYPE=image/jpeg:http://www.buergerfunk-moers.de/wp-content/uploads/2024/03/Scan0005-e1711633561312.jpg
END:VEVENT
BEGIN:VEVENT
DTSTART;TZID=Europe/Berlin:20260109T200400
DTEND;TZID=Europe/Berlin:20260109T205600
DTSTAMP:20260421T121320
CREATED:20251203T134217Z
LAST-MODIFIED:20260105T235937Z
UID:9151-1767989040-1767992160@www.buergerfunk-moers.de
SUMMARY:Ortsgespräche Rheinberg: Kulturgüter und Salzabbau
DESCRIPTION:Foto: Torsten Schaefer/Presse K&S \nDer Klang vergangener Zeiten. Welche Auswirkungen hat der Salzabbau am linken Niederrhein auf unsere Kulturgüter? Der Salzabbau soll erweitert werden. Gefährdet sind beispielsweise in Xanten der Dom und der Archäologische Park\, Friedhöfe und Kirchen in der Umgebung. Dort wo sich der Boden absenkt\, sich die Erdschichten bewegen\, geraten sie ins Schwanken. Einmal zerstört\, sind diese Bauten nicht mehr zu ersetzen\, Restaurierung hilft da kaum noch. Die Denkmäler stehen unter Schutz\, nicht nur gesetzlich\, sondern auch moralisch.
URL:http://www.buergerfunk-moers.de/event/ortsgespraeche-rheinberg-54/
ATTACH;FMTTYPE=image/jpeg:http://www.buergerfunk-moers.de/wp-content/uploads/2021/02/Bergwerk_Borth_mit_Abbau_2-e1612388718370.jpg
END:VEVENT
BEGIN:VEVENT
DTSTART;TZID=Europe/Berlin:20260114T200400
DTEND;TZID=Europe/Berlin:20260114T205600
DTSTAMP:20260421T121320
CREATED:20251203T133717Z
LAST-MODIFIED:20251203T133719Z
UID:9145-1768421040-1768424160@www.buergerfunk-moers.de
SUMMARY:Was ist los im Kreis Wesel
DESCRIPTION:Antworten auf diese Frage gibt´s im Magazin aus Neukirchen-Vluyn und dazu viel Oldie-Musik.
URL:http://www.buergerfunk-moers.de/event/was-ist-los-im-kreis-wesel-325/
ATTACH;FMTTYPE=image/jpeg:http://www.buergerfunk-moers.de/wp-content/uploads/2024/03/Scan0005-e1711633561312.jpg
END:VEVENT
BEGIN:VEVENT
DTSTART;TZID=Europe/Berlin:20260116T200400
DTEND;TZID=Europe/Berlin:20260116T205600
DTSTAMP:20260421T121320
CREATED:20260114T002351Z
LAST-MODIFIED:20260114T002351Z
UID:9294-1768593840-1768596960@www.buergerfunk-moers.de
SUMMARY:Jos de Bruin - der mit dem Wolf heult
DESCRIPTION:Foto: H.Hau \nDer mit den Wölfen heult\, das ist der 61jährige Niederländer Jos de Bruin. Weit draußen in den Feldern zwischen Sonsbeck und Uedem\, gibt er seit über 20 Jahren in seiner Auffangstation in Not geratenen Wölfen und Wolfshybriden ein Zuhause. Der Wolfexperte kennt das Verhalten der Wölfe und ist ein gefragter Mann als Berater bei allen Themen\, rund um den Wolf. Sind Wölfe für Menschen gefährlich\, wovon leben und ernähren sie sich? Wie kann ein konfliktarmes Zusammenleben von Mensch und Wolf gelingen? Was tun\, wenn mir ein Wolf begegnet? Diese Fragen und mehr beantwortet er unserem Moderator Harald Hau und erzählt von seinem bewegten Leben mit den Raubtieren. Spannende Einblicke in das Wolfsleben hier am Niederrhein…
URL:http://www.buergerfunk-moers.de/event/jos-de-bruin-der-mit-dem-wolf-heult/
ATTACH;FMTTYPE=image/jpeg:http://www.buergerfunk-moers.de/wp-content/uploads/2026/01/IMG-20251202-WA0001.jpg
ORGANIZER;CN="AK Moers":MAILTO:info@buergerfunk-radiokw.de
END:VEVENT
BEGIN:VEVENT
DTSTART;TZID=Europe/Berlin:20260121T200400
DTEND;TZID=Europe/Berlin:20260121T205600
DTSTAMP:20260421T121320
CREATED:20251203T133853Z
LAST-MODIFIED:20251203T133854Z
UID:9147-1769025840-1769028960@www.buergerfunk-moers.de
SUMMARY:Was ist los im Kreis Wesel
DESCRIPTION:Antworten auf diese Frage gibt´s im Magazin aus Neukirchen-Vluyn und dazu viel Oldie-Musik.
URL:http://www.buergerfunk-moers.de/event/was-ist-los-im-kreis-wesel-326/
ATTACH;FMTTYPE=image/jpeg:http://www.buergerfunk-moers.de/wp-content/uploads/2024/03/Scan0005-e1711633561312.jpg
END:VEVENT
BEGIN:VEVENT
DTSTART;TZID=Europe/Berlin:20260122T200400
DTEND;TZID=Europe/Berlin:20260122T205600
DTSTAMP:20260421T121320
CREATED:20260119T011629Z
LAST-MODIFIED:20260119T011630Z
UID:9298-1769112240-1769115360@www.buergerfunk-moers.de
SUMMARY:And the Winner is... - Moerser Heimatpreisverleihung 2025
DESCRIPTION:Foto: C.K. \nErstmalig verlieh die Stadt Moers den Heimatpreis\, den sie im letzten Jahr ausgelobt hatte. Im Rahmen einer kleinen Feier im Kammermusiksaal der Moerser Musikschule gingen die Preise an die ersten drei Gewinner: die „Extraschicht“ auf Schacht IV\, an das Orga-Team des Freefall-Musikfestivals\, und an das Cafe´ Lyzeum in der SCI-Volksschule. Sie erzählen\, wer sie sind und was ihr ehrenamtliches Engagement ausmacht. \n  \n 
URL:http://www.buergerfunk-moers.de/event/and-the-winner-is-moerser-heimatpreisverleihung-2025/
ATTACH;FMTTYPE=image/jpeg:http://www.buergerfunk-moers.de/wp-content/uploads/2026/01/IMG_20260114_190958Heimatpreis-2025-scaled-e1768785370495.jpg
ORGANIZER;CN="AK Moers":MAILTO:info@buergerfunk-radiokw.de
END:VEVENT
BEGIN:VEVENT
DTSTART;TZID=Europe/Berlin:20260128T200400
DTEND;TZID=Europe/Berlin:20260128T205600
DTSTAMP:20260421T121320
CREATED:20251203T134034Z
LAST-MODIFIED:20260223T114552Z
UID:9149-1769630640-1769633760@www.buergerfunk-moers.de
SUMMARY:Was ist los im Kreis Wesel
DESCRIPTION:Antworten auf diese Frage gibt´s im Magazin aus Neukirchen-Vluyn und dazu viel Oldie-Musik.
URL:http://www.buergerfunk-moers.de/event/was-ist-los-im-kreis-wesel-327/
ATTACH;FMTTYPE=image/jpeg:http://www.buergerfunk-moers.de/wp-content/uploads/2024/03/Scan0005-e1711633561312.jpg
END:VEVENT
BEGIN:VEVENT
DTSTART;TZID=Europe/Berlin:20260130T200400
DTEND;TZID=Europe/Berlin:20260130T205600
DTSTAMP:20260421T121320
CREATED:20260128T105632Z
LAST-MODIFIED:20260130T000247Z
UID:9302-1769803440-1769806560@www.buergerfunk-moers.de
SUMMARY:"Enten" - Geschichten
DESCRIPTION:Foto: C.K. \nHeute dreht sich alles rund um die Enten und warum? „Ist doch ein interessantes Thema“ meint schmunzelnd die Mundartdichterin Irma Ternes. In der Tat. Was es alles zu erzählen gibt\, ist erstaunlich: vom Kinderlied „Alle meine Entchen“\, von dem Oldtimer „Ente“ Citrön 2CV\, die Stadtparkenten bis hin zu den Badeenten\, Entenrennen\, einer Aufführung des Moerser Schloßtheaters „Anfall und Ente“ und vieles mehr.
URL:http://www.buergerfunk-moers.de/event/enten-geschichten/
ATTACH;FMTTYPE=image/jpeg:http://www.buergerfunk-moers.de/wp-content/uploads/2026/01/20250101_142102-rotated.jpg
ORGANIZER;CN="AK Moers":MAILTO:info@buergerfunk-radiokw.de
END:VEVENT
END:VCALENDAR