BEGIN:VCALENDAR
VERSION:2.0
PRODID:-//Bürgerfunk Moers - ECPv6.15.11//NONSGML v1.0//EN
CALSCALE:GREGORIAN
METHOD:PUBLISH
X-WR-CALNAME:Bürgerfunk Moers
X-ORIGINAL-URL:http://www.buergerfunk-moers.de
X-WR-CALDESC:Veranstaltungen für Bürgerfunk Moers
REFRESH-INTERVAL;VALUE=DURATION:PT1H
X-Robots-Tag:noindex
X-PUBLISHED-TTL:PT1H
BEGIN:VTIMEZONE
TZID:Europe/Berlin
BEGIN:DAYLIGHT
TZOFFSETFROM:+0100
TZOFFSETTO:+0200
TZNAME:CEST
DTSTART:20240331T010000
END:DAYLIGHT
BEGIN:STANDARD
TZOFFSETFROM:+0200
TZOFFSETTO:+0100
TZNAME:CET
DTSTART:20241027T010000
END:STANDARD
BEGIN:DAYLIGHT
TZOFFSETFROM:+0100
TZOFFSETTO:+0200
TZNAME:CEST
DTSTART:20250330T010000
END:DAYLIGHT
BEGIN:STANDARD
TZOFFSETFROM:+0200
TZOFFSETTO:+0100
TZNAME:CET
DTSTART:20251026T010000
END:STANDARD
BEGIN:DAYLIGHT
TZOFFSETFROM:+0100
TZOFFSETTO:+0200
TZNAME:CEST
DTSTART:20260329T010000
END:DAYLIGHT
BEGIN:STANDARD
TZOFFSETFROM:+0200
TZOFFSETTO:+0100
TZNAME:CET
DTSTART:20261025T010000
END:STANDARD
END:VTIMEZONE
BEGIN:VEVENT
DTSTART;TZID=Europe/Berlin:20250101T190400
DTEND;TZID=Europe/Berlin:20250101T195600
DTSTAMP:20260420T124649
CREATED:20241118T182509Z
LAST-MODIFIED:20241118T182510Z
UID:7605-1735758240-1735761360@www.buergerfunk-moers.de
SUMMARY:Was ist los im Kreis Wesel
DESCRIPTION:Antworten auf diese Frage gibt´s im Magazin aus Neukirchen-Vluyn und dazu viel Oldie-Musik.
URL:http://www.buergerfunk-moers.de/event/was-ist-los-im-kreis-wesel-273/
ATTACH;FMTTYPE=image/jpeg:http://www.buergerfunk-moers.de/wp-content/uploads/2024/03/Scan0005-e1711633561312.jpg
END:VEVENT
BEGIN:VEVENT
DTSTART;TZID=Europe/Berlin:20250104T200400
DTEND;TZID=Europe/Berlin:20250104T205600
DTSTAMP:20260420T124649
CREATED:20241118T183117Z
LAST-MODIFIED:20241119T150024Z
UID:7609-1736021040-1736024160@www.buergerfunk-moers.de
SUMMARY:Ad Libitum\, Elektronische Musik
DESCRIPTION:Foto: D. Keller privat \nElektronische Musik von gestern\, heute und morgen\, von und mit Detlef Keller. Interessierte können eigene Musik-Files einsenden\, die in den Sendungen veröffentlicht werden.
URL:http://www.buergerfunk-moers.de/event/ad-libitum-elektronische-musik-62/
ATTACH;FMTTYPE=image/jpeg:http://www.buergerfunk-moers.de/wp-content/uploads/2020/11/Det-Studio-01-e1604492136987.jpg
ORGANIZER;CN="AK Moers":MAILTO:info@buergerfunk-radiokw.de
END:VEVENT
BEGIN:VEVENT
DTSTART;TZID=Europe/Berlin:20250106T200400
DTEND;TZID=Europe/Berlin:20250106T205600
DTSTAMP:20260420T124649
CREATED:20241207T204533Z
LAST-MODIFIED:20250104T183719Z
UID:7718-1736193840-1736196960@www.buergerfunk-moers.de
SUMMARY:FFF-Magazin für Fahrrad\, Freizeit\, Fitness
DESCRIPTION:Bild: PSt. Stadt Moers \nDas Magazin für Fahrrad\, Freizeit und Fitness. Wir werfen einen Blick zurück auf das Radeljahr 2024 mit besonderen Ereignissen.
URL:http://www.buergerfunk-moers.de/event/fff-magazin-fuer-fahrrad-freizeit-fitness-62/
ATTACH;FMTTYPE=image/jpeg:http://www.buergerfunk-moers.de/wp-content/uploads/2024/12/ts050901Radtour_Nach1-PSt.jpg
ORGANIZER;CN="AK Moers":MAILTO:info@buergerfunk-radiokw.de
END:VEVENT
BEGIN:VEVENT
DTSTART;TZID=Europe/Berlin:20250108T200400
DTEND;TZID=Europe/Berlin:20250108T205600
DTSTAMP:20260420T124649
CREATED:20241207T203729Z
LAST-MODIFIED:20241207T203729Z
UID:7710-1736366640-1736369760@www.buergerfunk-moers.de
SUMMARY:Was ist los im Kreis Wesel
DESCRIPTION:Antworten auf diese Frage gibt´s im Magazin aus Neukirchen-Vluyn und dazu viel Oldie-Musik.
URL:http://www.buergerfunk-moers.de/event/was-ist-los-im-kreis-wesel-274/
ATTACH;FMTTYPE=image/jpeg:http://www.buergerfunk-moers.de/wp-content/uploads/2024/03/Scan0005-e1711633561312.jpg
END:VEVENT
BEGIN:VEVENT
DTSTART;TZID=Europe/Berlin:20250110T200400
DTEND;TZID=Europe/Berlin:20250110T205600
DTSTAMP:20260420T124649
CREATED:20241207T204721Z
LAST-MODIFIED:20250106T100526Z
UID:7720-1736539440-1736542560@www.buergerfunk-moers.de
SUMMARY:Ortsgespräche Rheinberg: Klimawandel\, Starkregen-Hochwasser
DESCRIPTION:Foto: C.K. \nNoch heute kämpfen die betroffenen Bürger*innen im alten Salzabbaugebiet der Deutschen Solvaywerke seit 2023/24\, von Xanten bis Rheinberg-Borth\, um die Anerkennung der Schäden durch den Grundwasseranstieg. Der Grundwasserspiegel steigt\, Keller laufen voll\, weil die Pumpen der LINEG\, das durch den Salz-Bergbau tiefergelegte bewohnte Gebiet nicht mehr trocken halten kann. Das Eigentum betroffener Bürger*innen\, wird durch das stark ansteigende und in den Gebäuden eindringende Grundwasser\, beschädigt und zerstört. Ein natürlicher Abfluss ist nicht möglich\, die Rheinsohle liegt heute höher als das tiefergelegter Salzabbaugebiet vor dem Deich. \nWie wirkt sich der Klimawandel aus durch Dürre und Starkregenereignisse am Niederrhein? Welche Rolle spielt dabei der Steinkohle- und Salzabbau\, der viele Menschen durch die Bodenabsenkung in eine erhöhte Gefahr bringt?
URL:http://www.buergerfunk-moers.de/event/ortsgespraeche-rheinberg-42/
ATTACH;FMTTYPE=image/jpeg:http://www.buergerfunk-moers.de/wp-content/uploads/2024/05/IMG_20240303_134341-e1720384435947.jpg
END:VEVENT
BEGIN:VEVENT
DTSTART;TZID=Europe/Berlin:20250111T200400
DTEND;TZID=Europe/Berlin:20250111T205600
DTSTAMP:20260420T124649
CREATED:20241207T205704Z
LAST-MODIFIED:20250104T182509Z
UID:7727-1736625840-1736628960@www.buergerfunk-moers.de
SUMMARY:Hanns Dieter Hüsch\, Niederrheingeschichten
DESCRIPTION:Foto: Elke Fuchs \nIn diesem Jahr\, am 6. Mai\, würde Hanns Dieter Hüsch 100 Jahre alt. Zu diesem Anlass werden wohl etliche Veranstaltungen in seiner Heimatstadt Moers geboten. Auch bei uns im Bürgerfunk kamen in der Vergangenheit Freunde und Familie zu Wort\, zum Beispiel Jürgen Pankarz und Anna Hüsch. Den Start machen wir heute mit seinen Niederrheingeschichten. Es wird heiter und besinnlich.
URL:http://www.buergerfunk-moers.de/event/elektronische-musik-28/
ATTACH;FMTTYPE=image/jpeg:http://www.buergerfunk-moers.de/wp-content/uploads/2024/11/2-1-0011-e1734347028362.jpg
ORGANIZER;CN="AK Moers":MAILTO:info@buergerfunk-radiokw.de
END:VEVENT
BEGIN:VEVENT
DTSTART;TZID=Europe/Berlin:20250115T200400
DTEND;TZID=Europe/Berlin:20250115T205600
DTSTAMP:20260420T124649
CREATED:20241207T203850Z
LAST-MODIFIED:20241207T203851Z
UID:7712-1736971440-1736974560@www.buergerfunk-moers.de
SUMMARY:Was ist los im Kreis Wesel
DESCRIPTION:Antworten auf diese Frage gibt´s im Magazin aus Neukirchen-Vluyn und dazu viel Oldie-Musik.
URL:http://www.buergerfunk-moers.de/event/was-ist-los-im-kreis-wesel-275/
ATTACH;FMTTYPE=image/jpeg:http://www.buergerfunk-moers.de/wp-content/uploads/2024/03/Scan0005-e1711633561312.jpg
END:VEVENT
BEGIN:VEVENT
DTSTART;TZID=Europe/Berlin:20250121T200400
DTEND;TZID=Europe/Berlin:20250121T205600
DTSTAMP:20260420T124649
CREATED:20250120T105739Z
LAST-MODIFIED:20250120T105739Z
UID:7852-1737489840-1737492960@www.buergerfunk-moers.de
SUMMARY:Streit um Bäume - Baumfällungen im Moerser Schlosspark gestoppt
DESCRIPTION:Foto PSt.Moers \nDie Stadt Moers will den historischen Stadtpark\, mit teilweise Jahrhundert alten Bäumen neu gestalten\, kranke Bäume fällen und klimaresistentere Bäume neu pflanzen. Doch die Anzahl von 130 zu fällenden Bäumen (Stand November 2024) brachte die Moerser Bürgerinnen und Bürger auf die Barrikaden. Das stieß auf erheblichen Widerstand. Viele Moerser lieben ihren Stadtpark mit dem alten Baumbestand\, der im Sommer für viele Besucher Schatten spendet. Besonders der GMGV\, der Grafschafter Museums- und Geschichtsverein und eine Bürgerinitiative stemmten sich gegen die Fällung gesunder Bäume\, organisierten eine Online-Petition mit inzwischen 9000 Unterschriften und eine Demo mit rund 300 Teilnehmenden. Unter dem Druck aus der Moerser Bevölkerung reagierte die Politik und der Stadtrat tagte zu einer Sondersitzung am 16. Januar\, aufgrund eines Antrags der Fraktion „Die Partei“. Hierzu einige Eindrücke.
URL:http://www.buergerfunk-moers.de/event/streit-um-baeume-baumfaellungen-im-moerser-schlosspark-gestoppt/
ATTACH;FMTTYPE=image/jpeg:http://www.buergerfunk-moers.de/wp-content/uploads/2025/01/ts011301Start_Sondersitzung-16.1.24.jpg
ORGANIZER;CN="AK Moers":MAILTO:info@buergerfunk-radiokw.de
END:VEVENT
BEGIN:VEVENT
DTSTART;TZID=Europe/Berlin:20250122T200400
DTEND;TZID=Europe/Berlin:20250122T205600
DTSTAMP:20260420T124649
CREATED:20241207T204008Z
LAST-MODIFIED:20241207T204009Z
UID:7714-1737576240-1737579360@www.buergerfunk-moers.de
SUMMARY:Was ist los im Kreis Wesel
DESCRIPTION:Antworten auf diese Frage gibt´s im Magazin aus Neukirchen-Vluyn und dazu viel Oldie-Musik.
URL:http://www.buergerfunk-moers.de/event/was-ist-los-im-kreis-wesel-276/
ATTACH;FMTTYPE=image/jpeg:http://www.buergerfunk-moers.de/wp-content/uploads/2024/03/Scan0005-e1711633561312.jpg
END:VEVENT
BEGIN:VEVENT
DTSTART;TZID=Europe/Berlin:20250124T200400
DTEND;TZID=Europe/Berlin:20250124T205600
DTSTAMP:20260420T124649
CREATED:20250115T122902Z
LAST-MODIFIED:20250115T142048Z
UID:7846-1737749040-1737752160@www.buergerfunk-moers.de
SUMMARY:Wer war Franz Kafka?
DESCRIPTION:Foto: Helmut Hahues \nFranz Kafka gilt heute als einer der wichtigsten Vertreter der mordernen deutschsprachigen Literatur. Anlässlich seines hundertjährigen Todestages im letzten Jahr\, spricht die Moerser Literaturfreundin Nina Morsch in dieser Sendung über sein Leben und seine literastische Arbeit.
URL:http://www.buergerfunk-moers.de/event/franz-kafka/
ATTACH;FMTTYPE=image/jpeg:http://www.buergerfunk-moers.de/wp-content/uploads/2025/01/JuttaNina-Januar2025-scaled-e1736943718446.jpg
END:VEVENT
BEGIN:VEVENT
DTSTART;TZID=Europe/Berlin:20250128T200400
DTEND;TZID=Europe/Berlin:20250128T205600
DTSTAMP:20260420T124649
CREATED:20241207T205020Z
LAST-MODIFIED:20250126T164549Z
UID:7722-1738094640-1738097760@www.buergerfunk-moers.de
SUMMARY:Kultur-Report
DESCRIPTION:Foto: Konrad Göke privat \nKonrad Göke widmet sich ausgewählten Künstlerinnen und Künstlern. Heute steht im Vordergrund der britische Rock- und Popsänger Rod Stewart\, der am 10. Januar 2025 seinen 80. Geburtstag feierte. Mit seiner einzigartigen gefühlvollen Reibeisenstimme begeistert er die Menschen in seinen Konzerten. \nKonrad Göke erinnert aber auch an den 80. Jahrestag der Befreiung des KZ Auschwitz\, den 27. Januar 1945 und Veranstaltungen zu diesem Gedenktag.
URL:http://www.buergerfunk-moers.de/event/kultur-report-63/
ATTACH;FMTTYPE=image/jpeg:http://www.buergerfunk-moers.de/wp-content/uploads/2020/12/20200201KW-02-e1612305144985.jpg
ORGANIZER;CN="AK Moers":MAILTO:info@buergerfunk-radiokw.de
END:VEVENT
BEGIN:VEVENT
DTSTART;TZID=Europe/Berlin:20250129T200400
DTEND;TZID=Europe/Berlin:20250129T205600
DTSTAMP:20260420T124649
CREATED:20241207T204127Z
LAST-MODIFIED:20241207T204128Z
UID:7716-1738181040-1738184160@www.buergerfunk-moers.de
SUMMARY:Was ist los im Kreis Wesel
DESCRIPTION:Antworten auf diese Frage gibt´s im Magazin aus Neukirchen-Vluyn und dazu viel Oldie-Musik.
URL:http://www.buergerfunk-moers.de/event/was-ist-los-im-kreis-wesel-277/
ATTACH;FMTTYPE=image/jpeg:http://www.buergerfunk-moers.de/wp-content/uploads/2024/03/Scan0005-e1711633561312.jpg
END:VEVENT
BEGIN:VEVENT
DTSTART;TZID=Europe/Berlin:20250130T200000
DTEND;TZID=Europe/Berlin:20250130T200400
DTSTAMP:20260420T124649
CREATED:20250125T192732Z
LAST-MODIFIED:20250130T181051Z
UID:7856-1738267200-1738267440@www.buergerfunk-moers.de
SUMMARY:"Steinewerfen?!? - Ohne mich!" - Bibelgeschichten neu interpretiert
DESCRIPTION:Bild: Thomas Klappstein privat \n„Steinewerfen?!? – Ohne mich!“\, das ist das neueste Buch von Thomas Klappstein. Als Theologe ist es ihm wichtig\, dass die Menschen nicht blindlings Autoritäten folgen und sich ihre eigene Meinung bilden. Beispielhaft dafür handelt die Hauptfigur Sebadja und erzählt über seine Faszination von Jesus: Jesus möchte\, dass die Personen\, die mit ihm zusammenkommen\, sich positiv verändern\, indem er sie bedingungslos aktzeptiert. \n 
URL:http://www.buergerfunk-moers.de/event/steinewerfen-ohne-mich-bibelgeschichten-neu-interpretiert/
ATTACH;FMTTYPE=image/jpeg:http://www.buergerfunk-moers.de/wp-content/uploads/2025/01/Thomas-Klappstein-Foto-von-Marco-Stepniak.jpg
ORGANIZER;CN="AK Moers":MAILTO:info@buergerfunk-radiokw.de
END:VEVENT
END:VCALENDAR