BEGIN:VCALENDAR
VERSION:2.0
PRODID:-//Bürgerfunk Moers - ECPv6.15.11//NONSGML v1.0//EN
CALSCALE:GREGORIAN
METHOD:PUBLISH
X-WR-CALNAME:Bürgerfunk Moers
X-ORIGINAL-URL:http://www.buergerfunk-moers.de
X-WR-CALDESC:Veranstaltungen für Bürgerfunk Moers
REFRESH-INTERVAL;VALUE=DURATION:PT1H
X-Robots-Tag:noindex
X-PUBLISHED-TTL:PT1H
BEGIN:VTIMEZONE
TZID:Europe/Berlin
BEGIN:DAYLIGHT
TZOFFSETFROM:+0100
TZOFFSETTO:+0200
TZNAME:CEST
DTSTART:20230326T010000
END:DAYLIGHT
BEGIN:STANDARD
TZOFFSETFROM:+0200
TZOFFSETTO:+0100
TZNAME:CET
DTSTART:20231029T010000
END:STANDARD
BEGIN:DAYLIGHT
TZOFFSETFROM:+0100
TZOFFSETTO:+0200
TZNAME:CEST
DTSTART:20240331T010000
END:DAYLIGHT
BEGIN:STANDARD
TZOFFSETFROM:+0200
TZOFFSETTO:+0100
TZNAME:CET
DTSTART:20241027T010000
END:STANDARD
BEGIN:DAYLIGHT
TZOFFSETFROM:+0100
TZOFFSETTO:+0200
TZNAME:CEST
DTSTART:20250330T010000
END:DAYLIGHT
BEGIN:STANDARD
TZOFFSETFROM:+0200
TZOFFSETTO:+0100
TZNAME:CET
DTSTART:20251026T010000
END:STANDARD
END:VTIMEZONE
BEGIN:VEVENT
DTSTART;TZID=Europe/Berlin:20240803T200400
DTEND;TZID=Europe/Berlin:20240803T205600
DTSTAMP:20260420T124651
CREATED:20240607T155405Z
LAST-MODIFIED:20240607T155406Z
UID:6930-1722715440-1722718560@www.buergerfunk-moers.de
SUMMARY:Ad Libitum\, Elektronische Musik
DESCRIPTION:Bild: D.Keller \nElektronische Musik von gestern\, heute und morgen\, von und mit Detlef Keller. Interessierte können eigene Musik-Files einsenden\, die in den Sendungen veröffentlicht werden.
URL:http://www.buergerfunk-moers.de/event/ad-libitum-elektronische-musik-57/
ATTACH;FMTTYPE=image/png:http://www.buergerfunk-moers.de/wp-content/uploads/2020/08/IMG_7482-2.png
ORGANIZER;CN="AK Moers":MAILTO:info@buergerfunk-radiokw.de
END:VEVENT
BEGIN:VEVENT
DTSTART;TZID=Europe/Berlin:20240805T200400
DTEND;TZID=Europe/Berlin:20240805T205600
DTSTAMP:20260420T124651
CREATED:20240707T235055Z
LAST-MODIFIED:20240725T105649Z
UID:7070-1722888240-1722891360@www.buergerfunk-moers.de
SUMMARY:FFF-Magazin für Fahrrad\, Freizeit\, Fitness
DESCRIPTION:Fotos: C.K. \nDas FFF-Magazin für Fahrrad\, Freizeit\, Fitness. Aus dem Niederrheinischen Radwandertag wurde der 1. Raderlebnistag Niederrhein 2024. Im wahrsten Sinne des Wortes\, denn die Umstellung auf das digitale Radeln war für viele Radler*innen eine Herausforderung und ein großes Ärgernis. Von der Tour 38 Moers – Neukirchen – Rheurdt – Kamp-Lintfort – Moers\, ein Stimmungsbild über Vor- und Nachteile während der Rundfahrt. Außerdem – Termine Pedelec-Fahrsicherheitstraining der Kreispolizei Wesel im August\, die Tour de France Femmes\, Radtourenfahrt (RTF) des Radsportclubs Moers 1978 e.V.\, Stadtführung per Rad „Moers und sein Wasser“\, Achtung\, bald sind die I-Dötzchen wieder unterwegs und Fahrradcodiertermine in Moers und Neukirchen-Vluyn.
URL:http://www.buergerfunk-moers.de/event/fff-magazin-fuer-fahrrad-freizeit-fitness-57/
ATTACH;FMTTYPE=image/jpeg:http://www.buergerfunk-moers.de/wp-content/uploads/2024/07/1-2024-07-08-scaled-e1720395894787.jpg
ORGANIZER;CN="AK Moers":MAILTO:info@buergerfunk-radiokw.de
END:VEVENT
BEGIN:VEVENT
DTSTART;TZID=Europe/Berlin:20240807T200400
DTEND;TZID=Europe/Berlin:20240807T205600
DTSTAMP:20260420T124651
CREATED:20240607T152213Z
LAST-MODIFIED:20240607T152214Z
UID:6909-1723061040-1723064160@www.buergerfunk-moers.de
SUMMARY:Was ist los im Kreis Wesel
DESCRIPTION:Antworten auf diese Frage gibt´s im Magazin aus Neukirchen-Vluyn und dazu viel Oldie-Musik.
URL:http://www.buergerfunk-moers.de/event/was-ist-los-im-kreis-wesel-252/
ATTACH;FMTTYPE=image/jpeg:http://www.buergerfunk-moers.de/wp-content/uploads/2024/03/Scan0005-e1711633561312.jpg
END:VEVENT
BEGIN:VEVENT
DTSTART;TZID=Europe/Berlin:20240809T200400
DTEND;TZID=Europe/Berlin:20240809T205600
DTSTAMP:20260420T124651
CREATED:20240707T235321Z
LAST-MODIFIED:20240908T001826Z
UID:7073-1723233840-1723236960@www.buergerfunk-moers.de
SUMMARY:Ortsgespräche Rheinberg: Bergrecht
DESCRIPTION:Bild: T.Schäfer/Presse K&S \nHeute möchten wir uns zum einen mit dem Bundesberggesetz beschäftigen und was sagt das Grundgesetz der Bundesrepublik Deutschland dazu\, wenn es um das Recht der von Bergschäden betroffenen Bürger geht. Auf welcher Seite steht das Bergrecht? In der heutigen Fassung steht es nicht auf der Seite der betroffenen Bürger. Ungefragt und ohne Zustimmung wird unter ihrem Eigentum in einem Bergbaugebiet ein Bodenschatz abgebaut. Schäden werden dabei billigend in Kauf genommen und das Eigentum der Bürger sogar zerstört. Wie sagen sogar die Politiker: Bergrecht steht über dem Grundgesetz\, das Gesundheit\, Leben und Eigentum der Bürger schützen soll.
URL:http://www.buergerfunk-moers.de/event/ortsgespraeche-rheinberg-37/
ATTACH;FMTTYPE=image/jpeg:http://www.buergerfunk-moers.de/wp-content/uploads/2024/07/1-Karl-Heinz-Kamps-scaled-e1722949074968.jpg
END:VEVENT
BEGIN:VEVENT
DTSTART;TZID=Europe/Berlin:20240810T200400
DTEND;TZID=Europe/Berlin:20240810T205600
DTSTAMP:20260420T124651
CREATED:20240716T125400Z
LAST-MODIFIED:20240903T185350Z
UID:7105-1723320240-1723323360@www.buergerfunk-moers.de
SUMMARY:Open-Air-Literatur-Sommer an der Donger Mühle
DESCRIPTION:Foto: Bürger \nIm Juni startete auf dem Gelände der Donger Mühle die erste Open-Air-Lesung des neuen Neukirchen-Vluyner Literatur-Sommers. Wenn alles klappt\, folgen im August und September zwei weitere. Unsere Sendung vermittelt einen kleinen Eindruck von der ersten Veranstaltung mit dem Krefelder Autor Dr. Burkhart Voss am 15. Juni und möchte dabei gleichzeitig auf die nächsten beiden Veranstaltungen neugierig machen. \n 
URL:http://www.buergerfunk-moers.de/event/open-air-literatur-sommer-an-der-donger-muehle/
ATTACH;FMTTYPE=image/jpeg:http://www.buergerfunk-moers.de/wp-content/uploads/2024/07/Screenshot_20240717_173849_WhatsApp-e1721663375259.jpg
ORGANIZER;CN="AK Moers":MAILTO:info@buergerfunk-radiokw.de
END:VEVENT
BEGIN:VEVENT
DTSTART;TZID=Europe/Berlin:20240814T200400
DTEND;TZID=Europe/Berlin:20240814T205600
DTSTAMP:20260420T124651
CREATED:20240722T215912Z
LAST-MODIFIED:20240722T220533Z
UID:7127-1723665840-1723668960@www.buergerfunk-moers.de
SUMMARY:Was ist los im Kreis Wesel
DESCRIPTION:Antworten auf diese Frage gibt´s im Magazin aus Neukirchen-Vluyn und dazu viel Oldie-Musik.
URL:http://www.buergerfunk-moers.de/event/was-ist-los-im-kreis-wesel-254/
ATTACH;FMTTYPE=image/jpeg:http://www.buergerfunk-moers.de/wp-content/uploads/2024/03/Scan0005-e1711633561312.jpg
END:VEVENT
BEGIN:VEVENT
DTSTART;TZID=Europe/Berlin:20240816T200400
DTEND;TZID=Europe/Berlin:20240816T205600
DTSTAMP:20260420T124651
CREATED:20240607T155143Z
LAST-MODIFIED:20240727T091346Z
UID:6928-1723838640-1723841760@www.buergerfunk-moers.de
SUMMARY:Pferde\, Land & Leute
DESCRIPTION:Das Ponyinternat feiert Einjähriges. Ein tolles Ereignis\, das Daniela Wilsing aus Moers zu verdanken ist. Sie ist der Überzeugung: „Es liegt in unserer Verantwortung\, unseren Pferden artgerechte Lebensbedingungen zu bieten und ihre individuellen Bedürfnisse zu berücksichtigen.“ Mehr dazu in der Sendung.
URL:http://www.buergerfunk-moers.de/event/pferde-land-leute-42/
ORGANIZER;CN="AK Moers":MAILTO:info@buergerfunk-radiokw.de
END:VEVENT
BEGIN:VEVENT
DTSTART;TZID=Europe/Berlin:20240818T190400
DTEND;TZID=Europe/Berlin:20240818T195600
DTSTAMP:20260420T124651
CREATED:20240707T235721Z
LAST-MODIFIED:20240813T072500Z
UID:7077-1724007840-1724010960@www.buergerfunk-moers.de
SUMMARY:Bürgerradio Meerbeck-Hochstraß mit Glaube(n)
DESCRIPTION:Bild: Frederik Göke \nUN Mensch? UN Orte? – Demokratie und Kunst im öffentlichen Raum: GLAUBE(N). \nSpätestens auf dem Friedhof liegen wir alle friedlich zusammen. Glaubst du\, wir kriegen das trotz aller Unterschiede auch im Leben hin? Spaziere mit uns in einer Performance über den Friedhof Meerbeck und komm zum Gespräch in kleiner Runde am Samstag\, 24.08.24 um 16:45 Uhr und 18:00 Uhr. Gespräch/Demokratiekonferenz Sonntag\, 25.8.24 von 13:00 Uhr bis 16:30 Uhr. \n 
URL:http://www.buergerfunk-moers.de/event/buergerradio-meerbeck-hochstrass-11/
ATTACH;FMTTYPE=image/jpeg:http://www.buergerfunk-moers.de/wp-content/uploads/2024/07/IMG_0104.jpeg
ORGANIZER;CN="AK Moers":MAILTO:info@buergerfunk-radiokw.de
END:VEVENT
BEGIN:VEVENT
DTSTART;TZID=Europe/Berlin:20240821T200400
DTEND;TZID=Europe/Berlin:20240821T205600
DTSTAMP:20260420T124651
CREATED:20240722T220126Z
LAST-MODIFIED:20240722T223921Z
UID:7129-1724270640-1724273760@www.buergerfunk-moers.de
SUMMARY:Was ist los im Kreis Wesel
DESCRIPTION:Antworten auf diese Frage gibt´s im Magazin aus Neukirchen-Vluyn und dazu viel Oldie-Musik.
URL:http://www.buergerfunk-moers.de/event/was-ist-los-im-kreis-wesel-255/
ATTACH;FMTTYPE=image/jpeg:http://www.buergerfunk-moers.de/wp-content/uploads/2024/03/Scan0005-e1711633561312.jpg
END:VEVENT
BEGIN:VEVENT
DTSTART;TZID=Europe/Berlin:20240822T200400
DTEND;TZID=Europe/Berlin:20240822T205600
DTSTAMP:20260420T124651
CREATED:20240812T113530Z
LAST-MODIFIED:20240903T185220Z
UID:7172-1724357040-1724360160@www.buergerfunk-moers.de
SUMMARY:100 Jahre Friedrichsfeld
DESCRIPTION:Der Förderverein Bürgerhaus Friedrichsfeld hat zur 100jährigen amtlichen Namensvergabe von Friedrichsfeld (März 1924) eine umfangreiche Ausstellung vorbereitet. Ab dem 25. August bis einschließlich 8. September werden im Bürgerhaus eine große Anzahl von Erinnerungsstücken\, Fotos und Dokumenten aus der Geschichte Friedrichsfelds präsentiert. Dazu in dieser Sendung Erläuterungen von Bernd Gossen und Fabian Merker.
URL:http://www.buergerfunk-moers.de/event/100-jahre-freidrichsfeld/
ATTACH;FMTTYPE=image/jpeg:http://www.buergerfunk-moers.de/wp-content/uploads/2024/08/20240815_153509-e1723731660851.jpg
ORGANIZER;CN="AK Moers":MAILTO:info@buergerfunk-radiokw.de
END:VEVENT
BEGIN:VEVENT
DTSTART;TZID=Europe/Berlin:20240827T200400
DTEND;TZID=Europe/Berlin:20240827T205600
DTSTAMP:20260420T124651
CREATED:20240722T222412Z
LAST-MODIFIED:20240825T202257Z
UID:7137-1724789040-1724792160@www.buergerfunk-moers.de
SUMMARY:Kultur-Report
DESCRIPTION:Foto: Konrad Göke privat \nKonrad Göke widmet sich ausgewählten Künstlerinnen und Künstlern\, wie heute Alain Delon\, der gerade verstorben ist. Er zeigt Stationen seines Lebenswegs\, des schönen Filmschauspielers auf\, der bekannt war für zahlreiche Liebschaften. Die bekannteste war wohl zu seiner Schauspielkollegin Romy Schneider. Ein anderes Thema\, was Konrad Göke bewegt\, ist das Massaker der Waffen-SS an den italienischen Dorfbewohnern von Sant´Anna di Stazzema vor 80 Jahren. Zur Gedenkfeier reiste er dort hin und erinnert nochmal an die Gräueltaten. Außerdem weist er auf das ökumenische Gedenkkonzert zum 80. Jahrestag des Kriegsverbrechens hin\, am 6. September um 18 Uhr in der Moerser ev. Stadtkirche. Auch weist er hin auf die Einweihung des Denkmals der Moorsoldaten\, dessen Liedtext der Moerser Johann Esser im KZ Börgermoor einst verfasste. Die Schirmherrschaft hat die Bundestagspräsidentin Bärbel Bas übernommen und kommt am Samstag\, den 28. September um 14 Uhr zur Einweihung\, an der Barbaraschule in Moers-Meerbeck.
URL:http://www.buergerfunk-moers.de/event/kultur-report-58/
ATTACH;FMTTYPE=image/jpeg:http://www.buergerfunk-moers.de/wp-content/uploads/2020/12/20200201KW-02-e1612305144985.jpg
ORGANIZER;CN="AK Moers":MAILTO:info@buergerfunk-radiokw.de
END:VEVENT
BEGIN:VEVENT
DTSTART;TZID=Europe/Berlin:20240828T200400
DTEND;TZID=Europe/Berlin:20240828T205600
DTSTAMP:20260420T124651
CREATED:20240722T220257Z
LAST-MODIFIED:20240722T220257Z
UID:7131-1724875440-1724878560@www.buergerfunk-moers.de
SUMMARY:Was ist los im Kreis Wesel
DESCRIPTION:Antworten auf diese Frage gibt´s im Magazin aus Neukirchen-Vluyn und dazu viel Oldie-Musik.
URL:http://www.buergerfunk-moers.de/event/was-ist-los-im-kreis-wesel-256/
ATTACH;FMTTYPE=image/jpeg:http://www.buergerfunk-moers.de/wp-content/uploads/2024/03/Scan0005-e1711633561312.jpg
END:VEVENT
BEGIN:VEVENT
DTSTART;TZID=Europe/Berlin:20240829T200400
DTEND;TZID=Europe/Berlin:20240829T205600
DTSTAMP:20260420T124651
CREATED:20240816T184158Z
LAST-MODIFIED:20240826T181225Z
UID:7204-1724961840-1724964960@www.buergerfunk-moers.de
SUMMARY:Bandoneon-Festival Krefeld: Kein Tango ohne Bandoneon!
DESCRIPTION:Foto: H.Hau \nAlle zwei Jahre steht Krefeld im Zeichen des Bandoneon-Festivals. In diesem Jahr werden Musikliebhaber vom 8. – 21. September auf ihre Kosten kommen mit Bandoneon-Interpretationen vom Tango bis Klassik und Jazz. Das Bandoneon\, ähnlich wie ein Akkordeon\, nur kleiner und zu spielen mit Knöpfen statt Tasten zu drücken. Entwickelt hat es im 19. Jahrhundert der Krefelder Heinrich Band\, der einen Musikladen betrieb. Als „Klavier des kleinen Mannes“ war das Bandoneon in Deutschland in der Arbeiterbewegung sehr beliebt. Das Instrument fand den Weg nach Südamerika und ist fester Bestandteil der Tangomusik geworden. Wie es dazu kam\, welche Verbindung es von Moers zu Heinrich Band gab und vieles mehr zum Bandoneon hat Harald Hau erfahren von Jürgen Eichendorf vom Krefelder Kulturbüro und Angel Alava-Pons vom Wirtschaftsdezernat.
URL:http://www.buergerfunk-moers.de/event/bandoneon-festival-krefeld-kein-tango-ohne-bandoneon/
ATTACH;FMTTYPE=image/jpeg:http://www.buergerfunk-moers.de/wp-content/uploads/2024/08/IMG-20240729-WA00001.jpg
ORGANIZER;CN="AK Moers":MAILTO:info@buergerfunk-radiokw.de
END:VEVENT
END:VCALENDAR