BEGIN:VCALENDAR
VERSION:2.0
PRODID:-//Bürgerfunk Moers - ECPv6.15.11//NONSGML v1.0//EN
CALSCALE:GREGORIAN
METHOD:PUBLISH
X-WR-CALNAME:Bürgerfunk Moers
X-ORIGINAL-URL:http://www.buergerfunk-moers.de
X-WR-CALDESC:Veranstaltungen für Bürgerfunk Moers
REFRESH-INTERVAL;VALUE=DURATION:PT1H
X-Robots-Tag:noindex
X-PUBLISHED-TTL:PT1H
BEGIN:VTIMEZONE
TZID:Europe/Berlin
BEGIN:DAYLIGHT
TZOFFSETFROM:+0100
TZOFFSETTO:+0200
TZNAME:CEST
DTSTART:20250330T010000
END:DAYLIGHT
BEGIN:STANDARD
TZOFFSETFROM:+0200
TZOFFSETTO:+0100
TZNAME:CET
DTSTART:20251026T010000
END:STANDARD
BEGIN:DAYLIGHT
TZOFFSETFROM:+0100
TZOFFSETTO:+0200
TZNAME:CEST
DTSTART:20260329T010000
END:DAYLIGHT
BEGIN:STANDARD
TZOFFSETFROM:+0200
TZOFFSETTO:+0100
TZNAME:CET
DTSTART:20261025T010000
END:STANDARD
BEGIN:DAYLIGHT
TZOFFSETFROM:+0100
TZOFFSETTO:+0200
TZNAME:CEST
DTSTART:20270328T010000
END:DAYLIGHT
BEGIN:STANDARD
TZOFFSETFROM:+0200
TZOFFSETTO:+0100
TZNAME:CET
DTSTART:20271031T010000
END:STANDARD
END:VTIMEZONE
BEGIN:VEVENT
DTSTART;TZID=Europe/Berlin:20260213T200400
DTEND;TZID=Europe/Berlin:20260213T205600
DTSTAMP:20260423T114112
CREATED:20260113T170912Z
LAST-MODIFIED:20260204T182628Z
UID:9288-1771013040-1771016160@www.buergerfunk-moers.de
SUMMARY:Ortsgespräche Rheinberg: Die Staumauer
DESCRIPTION:Foto: C.K. \nHochwasser und Starkregenereignissen gefährden unsere Deiche am Niederrhein. Durch den Kohle- und Salzabbau liegt das Gebiet schon unter dem Rheinpegel. Ein weiterer Salzabbau unter Xanten ist genehmigt und die Gefahr für das Rheinhochwasser steigt. Eine in die Jahre gekommene Spundwand soll erhöht werden\, auf einer Länge von fast 800 Metern entlang der B57 in Birten\, was aber Gefahren birgt. Die 2001 errichtet Wand zeigt Korrosionsschäden. In 25 Jahren hat sie rund ein Achtel ihrer Stärke verloren. Trotzdem soll sie Jahrzehnte weiter tragen in einem Gebiet\, das noch 150 Jahre von Bergsenkungen betroffen sein wird. Beton statt Deich? Warum die geplante Lösung umstritten ist und welche Alternativen möglich wären\, erfahren Sie in der Sendung.
URL:http://www.buergerfunk-moers.de/event/ortsgespraeche-rheinberg-55/
ATTACH;FMTTYPE=image/jpeg:http://www.buergerfunk-moers.de/wp-content/uploads/2026/01/IMG_2414.jpg
END:VEVENT
END:VCALENDAR