BEGIN:VCALENDAR
VERSION:2.0
PRODID:-//Bürgerfunk Moers - ECPv6.15.11//NONSGML v1.0//EN
CALSCALE:GREGORIAN
METHOD:PUBLISH
X-ORIGINAL-URL:http://www.buergerfunk-moers.de
X-WR-CALDESC:Veranstaltungen für Bürgerfunk Moers
REFRESH-INTERVAL;VALUE=DURATION:PT1H
X-Robots-Tag:noindex
X-PUBLISHED-TTL:PT1H
BEGIN:VTIMEZONE
TZID:Europe/Berlin
BEGIN:DAYLIGHT
TZOFFSETFROM:+0100
TZOFFSETTO:+0200
TZNAME:CEST
DTSTART:20240331T010000
END:DAYLIGHT
BEGIN:STANDARD
TZOFFSETFROM:+0200
TZOFFSETTO:+0100
TZNAME:CET
DTSTART:20241027T010000
END:STANDARD
BEGIN:DAYLIGHT
TZOFFSETFROM:+0100
TZOFFSETTO:+0200
TZNAME:CEST
DTSTART:20250330T010000
END:DAYLIGHT
BEGIN:STANDARD
TZOFFSETFROM:+0200
TZOFFSETTO:+0100
TZNAME:CET
DTSTART:20251026T010000
END:STANDARD
BEGIN:DAYLIGHT
TZOFFSETFROM:+0100
TZOFFSETTO:+0200
TZNAME:CEST
DTSTART:20260329T010000
END:DAYLIGHT
BEGIN:STANDARD
TZOFFSETFROM:+0200
TZOFFSETTO:+0100
TZNAME:CET
DTSTART:20261025T010000
END:STANDARD
END:VTIMEZONE
BEGIN:VEVENT
DTSTART;TZID=Europe/Berlin:20250128T200400
DTEND;TZID=Europe/Berlin:20250128T205600
DTSTAMP:20260420T142747
CREATED:20241207T205020Z
LAST-MODIFIED:20250126T164549Z
UID:7722-1738094640-1738097760@www.buergerfunk-moers.de
SUMMARY:Kultur-Report
DESCRIPTION:Foto: Konrad Göke privat \nKonrad Göke widmet sich ausgewählten Künstlerinnen und Künstlern. Heute steht im Vordergrund der britische Rock- und Popsänger Rod Stewart\, der am 10. Januar 2025 seinen 80. Geburtstag feierte. Mit seiner einzigartigen gefühlvollen Reibeisenstimme begeistert er die Menschen in seinen Konzerten. \nKonrad Göke erinnert aber auch an den 80. Jahrestag der Befreiung des KZ Auschwitz\, den 27. Januar 1945 und Veranstaltungen zu diesem Gedenktag.
URL:http://www.buergerfunk-moers.de/event/kultur-report-63/
ATTACH;FMTTYPE=image/jpeg:http://www.buergerfunk-moers.de/wp-content/uploads/2020/12/20200201KW-02-e1612305144985.jpg
ORGANIZER;CN="AK Moers":MAILTO:info@buergerfunk-radiokw.de
END:VEVENT
END:VCALENDAR