BEGIN:VCALENDAR
VERSION:2.0
PRODID:-//Bürgerfunk Moers - ECPv6.15.11//NONSGML v1.0//EN
CALSCALE:GREGORIAN
METHOD:PUBLISH
X-ORIGINAL-URL:http://www.buergerfunk-moers.de
X-WR-CALDESC:Veranstaltungen für Bürgerfunk Moers
REFRESH-INTERVAL;VALUE=DURATION:PT1H
X-Robots-Tag:noindex
X-PUBLISHED-TTL:PT1H
BEGIN:VTIMEZONE
TZID:Europe/Berlin
BEGIN:DAYLIGHT
TZOFFSETFROM:+0100
TZOFFSETTO:+0200
TZNAME:CEST
DTSTART:20240331T010000
END:DAYLIGHT
BEGIN:STANDARD
TZOFFSETFROM:+0200
TZOFFSETTO:+0100
TZNAME:CET
DTSTART:20241027T010000
END:STANDARD
BEGIN:DAYLIGHT
TZOFFSETFROM:+0100
TZOFFSETTO:+0200
TZNAME:CEST
DTSTART:20250330T010000
END:DAYLIGHT
BEGIN:STANDARD
TZOFFSETFROM:+0200
TZOFFSETTO:+0100
TZNAME:CET
DTSTART:20251026T010000
END:STANDARD
BEGIN:DAYLIGHT
TZOFFSETFROM:+0100
TZOFFSETTO:+0200
TZNAME:CEST
DTSTART:20260329T010000
END:DAYLIGHT
BEGIN:STANDARD
TZOFFSETFROM:+0200
TZOFFSETTO:+0100
TZNAME:CET
DTSTART:20261025T010000
END:STANDARD
END:VTIMEZONE
BEGIN:VEVENT
DTSTART;TZID=Europe/Berlin:20250124T200400
DTEND;TZID=Europe/Berlin:20250124T205600
DTSTAMP:20260420T143940
CREATED:20250115T122902Z
LAST-MODIFIED:20250115T142048Z
UID:7846-1737749040-1737752160@www.buergerfunk-moers.de
SUMMARY:Wer war Franz Kafka?
DESCRIPTION:Foto: Helmut Hahues \nFranz Kafka gilt heute als einer der wichtigsten Vertreter der mordernen deutschsprachigen Literatur. Anlässlich seines hundertjährigen Todestages im letzten Jahr\, spricht die Moerser Literaturfreundin Nina Morsch in dieser Sendung über sein Leben und seine literastische Arbeit.
URL:http://www.buergerfunk-moers.de/event/franz-kafka/
ATTACH;FMTTYPE=image/jpeg:http://www.buergerfunk-moers.de/wp-content/uploads/2025/01/JuttaNina-Januar2025-scaled-e1736943718446.jpg
END:VEVENT
END:VCALENDAR