BEGIN:VCALENDAR
VERSION:2.0
PRODID:-//Bürgerfunk Moers - ECPv6.15.11//NONSGML v1.0//EN
CALSCALE:GREGORIAN
METHOD:PUBLISH
X-ORIGINAL-URL:http://www.buergerfunk-moers.de
X-WR-CALDESC:Veranstaltungen für Bürgerfunk Moers
REFRESH-INTERVAL;VALUE=DURATION:PT1H
X-Robots-Tag:noindex
X-PUBLISHED-TTL:PT1H
BEGIN:VTIMEZONE
TZID:Europe/Berlin
BEGIN:DAYLIGHT
TZOFFSETFROM:+0100
TZOFFSETTO:+0200
TZNAME:CEST
DTSTART:20240331T010000
END:DAYLIGHT
BEGIN:STANDARD
TZOFFSETFROM:+0200
TZOFFSETTO:+0100
TZNAME:CET
DTSTART:20241027T010000
END:STANDARD
BEGIN:DAYLIGHT
TZOFFSETFROM:+0100
TZOFFSETTO:+0200
TZNAME:CEST
DTSTART:20250330T010000
END:DAYLIGHT
BEGIN:STANDARD
TZOFFSETFROM:+0200
TZOFFSETTO:+0100
TZNAME:CET
DTSTART:20251026T010000
END:STANDARD
BEGIN:DAYLIGHT
TZOFFSETFROM:+0100
TZOFFSETTO:+0200
TZNAME:CEST
DTSTART:20260329T010000
END:DAYLIGHT
BEGIN:STANDARD
TZOFFSETFROM:+0200
TZOFFSETTO:+0100
TZNAME:CET
DTSTART:20261025T010000
END:STANDARD
END:VTIMEZONE
BEGIN:VEVENT
DTSTART;TZID=Europe/Berlin:20250111T200400
DTEND;TZID=Europe/Berlin:20250111T205600
DTSTAMP:20260420T124718
CREATED:20241207T205704Z
LAST-MODIFIED:20250104T182509Z
UID:7727-1736625840-1736628960@www.buergerfunk-moers.de
SUMMARY:Hanns Dieter Hüsch\, Niederrheingeschichten
DESCRIPTION:Foto: Elke Fuchs \nIn diesem Jahr\, am 6. Mai\, würde Hanns Dieter Hüsch 100 Jahre alt. Zu diesem Anlass werden wohl etliche Veranstaltungen in seiner Heimatstadt Moers geboten. Auch bei uns im Bürgerfunk kamen in der Vergangenheit Freunde und Familie zu Wort\, zum Beispiel Jürgen Pankarz und Anna Hüsch. Den Start machen wir heute mit seinen Niederrheingeschichten. Es wird heiter und besinnlich.
URL:http://www.buergerfunk-moers.de/event/elektronische-musik-28/
ATTACH;FMTTYPE=image/jpeg:http://www.buergerfunk-moers.de/wp-content/uploads/2024/11/2-1-0011-e1734347028362.jpg
ORGANIZER;CN="AK Moers":MAILTO:info@buergerfunk-radiokw.de
END:VEVENT
END:VCALENDAR