BEGIN:VCALENDAR
VERSION:2.0
PRODID:-//Bürgerfunk Moers - ECPv6.15.11//NONSGML v1.0//EN
CALSCALE:GREGORIAN
METHOD:PUBLISH
X-WR-CALNAME:Bürgerfunk Moers
X-ORIGINAL-URL:http://www.buergerfunk-moers.de
X-WR-CALDESC:Veranstaltungen für Bürgerfunk Moers
REFRESH-INTERVAL;VALUE=DURATION:PT1H
X-Robots-Tag:noindex
X-PUBLISHED-TTL:PT1H
BEGIN:VTIMEZONE
TZID:Europe/Berlin
BEGIN:DAYLIGHT
TZOFFSETFROM:+0100
TZOFFSETTO:+0200
TZNAME:CEST
DTSTART:20240331T010000
END:DAYLIGHT
BEGIN:STANDARD
TZOFFSETFROM:+0200
TZOFFSETTO:+0100
TZNAME:CET
DTSTART:20241027T010000
END:STANDARD
BEGIN:DAYLIGHT
TZOFFSETFROM:+0100
TZOFFSETTO:+0200
TZNAME:CEST
DTSTART:20250330T010000
END:DAYLIGHT
BEGIN:STANDARD
TZOFFSETFROM:+0200
TZOFFSETTO:+0100
TZNAME:CET
DTSTART:20251026T010000
END:STANDARD
BEGIN:DAYLIGHT
TZOFFSETFROM:+0100
TZOFFSETTO:+0200
TZNAME:CEST
DTSTART:20260329T010000
END:DAYLIGHT
BEGIN:STANDARD
TZOFFSETFROM:+0200
TZOFFSETTO:+0100
TZNAME:CET
DTSTART:20261025T010000
END:STANDARD
END:VTIMEZONE
BEGIN:VEVENT
DTSTART;TZID=Europe/Berlin:20250110T200400
DTEND;TZID=Europe/Berlin:20250110T205600
DTSTAMP:20260420T111131
CREATED:20241207T204721Z
LAST-MODIFIED:20250106T100526Z
UID:7720-1736539440-1736542560@www.buergerfunk-moers.de
SUMMARY:Ortsgespräche Rheinberg: Klimawandel\, Starkregen-Hochwasser
DESCRIPTION:Foto: C.K. \nNoch heute kämpfen die betroffenen Bürger*innen im alten Salzabbaugebiet der Deutschen Solvaywerke seit 2023/24\, von Xanten bis Rheinberg-Borth\, um die Anerkennung der Schäden durch den Grundwasseranstieg. Der Grundwasserspiegel steigt\, Keller laufen voll\, weil die Pumpen der LINEG\, das durch den Salz-Bergbau tiefergelegte bewohnte Gebiet nicht mehr trocken halten kann. Das Eigentum betroffener Bürger*innen\, wird durch das stark ansteigende und in den Gebäuden eindringende Grundwasser\, beschädigt und zerstört. Ein natürlicher Abfluss ist nicht möglich\, die Rheinsohle liegt heute höher als das tiefergelegter Salzabbaugebiet vor dem Deich. \nWie wirkt sich der Klimawandel aus durch Dürre und Starkregenereignisse am Niederrhein? Welche Rolle spielt dabei der Steinkohle- und Salzabbau\, der viele Menschen durch die Bodenabsenkung in eine erhöhte Gefahr bringt?
URL:http://www.buergerfunk-moers.de/event/ortsgespraeche-rheinberg-42/
ATTACH;FMTTYPE=image/jpeg:http://www.buergerfunk-moers.de/wp-content/uploads/2024/05/IMG_20240303_134341-e1720384435947.jpg
END:VEVENT
END:VCALENDAR