BEGIN:VCALENDAR
VERSION:2.0
PRODID:-//Bürgerfunk Moers - ECPv6.15.11//NONSGML v1.0//EN
CALSCALE:GREGORIAN
METHOD:PUBLISH
X-WR-CALNAME:Bürgerfunk Moers
X-ORIGINAL-URL:http://www.buergerfunk-moers.de
X-WR-CALDESC:Veranstaltungen für Bürgerfunk Moers
REFRESH-INTERVAL;VALUE=DURATION:PT1H
X-Robots-Tag:noindex
X-PUBLISHED-TTL:PT1H
BEGIN:VTIMEZONE
TZID:Europe/Berlin
BEGIN:DAYLIGHT
TZOFFSETFROM:+0100
TZOFFSETTO:+0200
TZNAME:CEST
DTSTART:20230326T010000
END:DAYLIGHT
BEGIN:STANDARD
TZOFFSETFROM:+0200
TZOFFSETTO:+0100
TZNAME:CET
DTSTART:20231029T010000
END:STANDARD
BEGIN:DAYLIGHT
TZOFFSETFROM:+0100
TZOFFSETTO:+0200
TZNAME:CEST
DTSTART:20240331T010000
END:DAYLIGHT
BEGIN:STANDARD
TZOFFSETFROM:+0200
TZOFFSETTO:+0100
TZNAME:CET
DTSTART:20241027T010000
END:STANDARD
BEGIN:DAYLIGHT
TZOFFSETFROM:+0100
TZOFFSETTO:+0200
TZNAME:CEST
DTSTART:20250330T010000
END:DAYLIGHT
BEGIN:STANDARD
TZOFFSETFROM:+0200
TZOFFSETTO:+0100
TZNAME:CET
DTSTART:20251026T010000
END:STANDARD
END:VTIMEZONE
BEGIN:VEVENT
DTSTART;TZID=Europe/Berlin:20241213T200400
DTEND;TZID=Europe/Berlin:20241213T205600
DTSTAMP:20260420T142701
CREATED:20241118T182700Z
LAST-MODIFIED:20241208T190945Z
UID:7607-1734120240-1734123360@www.buergerfunk-moers.de
SUMMARY:Ortsgespräche Rheinberg: Gefahren Hochwasser am Niederrhein
DESCRIPTION:Foto: C.K. \nWie wichtig ist der Deichschutz am Niederrhein und was steht auf dem Spiel\, wenn dieser vernachlässigt wird? Nach dieser Sendung sehen Sie diesen wichtigen Bereich wohl mit anderen Augen. \nDer Hochwasserschutz am Niederrhein scheint ein Stiefkind zu sein\, hat Moderator Karlheinz Kamps festgestellt. Hochwasserschutz und Starkregenereignisse werden von den Menschen nicht mit dem Stellenwert wahrgenommen\, der eigentlich erforderlich ist. \nWelche Rolle spielen die Behörden? Beschlüsse der Hochwasserkonferenz sind teilweise nach 20 Jahren\, bzw. 40 Jahren immer noch nicht umgesetzt. Die klare Zuweisung von Zuständigkeiten und die Möglichkeiten behördlicher Anordnungen sollten die Umsetzung der Schutzmaßnahmen gewährleisten. Warum geschieht dies nur sehr schleppend? Weshalb werden in vom Hochwasser erheblich bedrohten Gebieten wie hier am Niederrhein noch Bereiche für den erweiterten Salzbergbau freigegeben und somit die Gefahren der Menschen für Leib und Leben deutlich verschärft? Schon jetzt ist das Gebiet bis zu 15 Meter abgesenkt durch den Steinkohlebergbau.
URL:http://www.buergerfunk-moers.de/event/ortsgespraeche-rheinberg-41/
ATTACH;FMTTYPE=image/jpeg:http://www.buergerfunk-moers.de/wp-content/uploads/2024/05/IMG_20240303_144201.jpg
END:VEVENT
END:VCALENDAR