BEGIN:VCALENDAR
VERSION:2.0
PRODID:-//Bürgerfunk Moers - ECPv6.15.11//NONSGML v1.0//EN
CALSCALE:GREGORIAN
METHOD:PUBLISH
X-WR-CALNAME:Bürgerfunk Moers
X-ORIGINAL-URL:http://www.buergerfunk-moers.de
X-WR-CALDESC:Veranstaltungen für Bürgerfunk Moers
REFRESH-INTERVAL;VALUE=DURATION:PT1H
X-Robots-Tag:noindex
X-PUBLISHED-TTL:PT1H
BEGIN:VTIMEZONE
TZID:Europe/Berlin
BEGIN:DAYLIGHT
TZOFFSETFROM:+0100
TZOFFSETTO:+0200
TZNAME:CEST
DTSTART:20230326T010000
END:DAYLIGHT
BEGIN:STANDARD
TZOFFSETFROM:+0200
TZOFFSETTO:+0100
TZNAME:CET
DTSTART:20231029T010000
END:STANDARD
BEGIN:DAYLIGHT
TZOFFSETFROM:+0100
TZOFFSETTO:+0200
TZNAME:CEST
DTSTART:20240331T010000
END:DAYLIGHT
BEGIN:STANDARD
TZOFFSETFROM:+0200
TZOFFSETTO:+0100
TZNAME:CET
DTSTART:20241027T010000
END:STANDARD
BEGIN:DAYLIGHT
TZOFFSETFROM:+0100
TZOFFSETTO:+0200
TZNAME:CEST
DTSTART:20250330T010000
END:DAYLIGHT
BEGIN:STANDARD
TZOFFSETFROM:+0200
TZOFFSETTO:+0100
TZNAME:CET
DTSTART:20251026T010000
END:STANDARD
END:VTIMEZONE
BEGIN:VEVENT
DTSTART;TZID=Europe/Berlin:20241022T200400
DTEND;TZID=Europe/Berlin:20241022T205600
DTSTAMP:20260420T143929
CREATED:20241016T203834Z
LAST-MODIFIED:20241016T204348Z
UID:7484-1729627440-1729630560@www.buergerfunk-moers.de
SUMMARY:Grüne Stadt - Schwammstadt
DESCRIPTION:Foto: PSt. Stadt Moers \nDas Klima verändert sich und bewegt die Menschen unserer Region. Der Initiativkreis Moers hat sich diesem Thema für die Grafenstadt angenommen und für den Herbstanfang Davit Arican\, bekannt aus der ZDF-Sendung „Duell der Gartenprofis“\, einen über den Moerser Stadtgrenzen hinaus bekannten Gastredner eingeladen. Er ist Experte bei der Gartenumgestaltung und Entwicklung von Grünflächen. Bedingt durch den Klimawandel\, kämpfen viele Kommunen zunehmend mit Starkregenereignissen\, Trockenheit und Überschwemmungen. Arican informierte in seinem Vortrag „Grüne Stadt – Schwammstadt“ über die Idee\, Gründe und Umsetzungsmöglichkeiten. Auf die besondere Bedeutung von Straßenbäumen wies Arican ausdrücklich hin und zeigte sich besorgt über zahlreiche Bäume in der Moerser Innenstadt. Er zeigte eindrucksvoll auf\, wie die Vitalität eines Stadtbaumes gefördert werden kann. David Arican geht hier selbst mit gutem Beispiel voran: In 2023 gestaltete er ehrenamtlich den „Horten-Kreisel“. (Wir berichteten Grüne Kreisverkehre in Moers | VHS Moers | NRWision ) Außerdem erfahren Sie\, was seitens der Stadt geplant ist zum Thema „Grüne Stadt – Schwammstadt“.
URL:http://www.buergerfunk-moers.de/event/gruene-stadt-schwammstadt/
ATTACH;FMTTYPE=image/jpeg:http://www.buergerfunk-moers.de/wp-content/uploads/2024/10/Sonderfuehrung_Baeume_cropped.jpg
ORGANIZER;CN="AK Moers":MAILTO:info@buergerfunk-radiokw.de
END:VEVENT
END:VCALENDAR