BEGIN:VCALENDAR
VERSION:2.0
PRODID:-//Bürgerfunk Moers - ECPv6.15.11//NONSGML v1.0//EN
CALSCALE:GREGORIAN
METHOD:PUBLISH
X-ORIGINAL-URL:http://www.buergerfunk-moers.de
X-WR-CALDESC:Veranstaltungen für Bürgerfunk Moers
REFRESH-INTERVAL;VALUE=DURATION:PT1H
X-Robots-Tag:noindex
X-PUBLISHED-TTL:PT1H
BEGIN:VTIMEZONE
TZID:Europe/Berlin
BEGIN:DAYLIGHT
TZOFFSETFROM:+0100
TZOFFSETTO:+0200
TZNAME:CEST
DTSTART:20230326T010000
END:DAYLIGHT
BEGIN:STANDARD
TZOFFSETFROM:+0200
TZOFFSETTO:+0100
TZNAME:CET
DTSTART:20231029T010000
END:STANDARD
BEGIN:DAYLIGHT
TZOFFSETFROM:+0100
TZOFFSETTO:+0200
TZNAME:CEST
DTSTART:20240331T010000
END:DAYLIGHT
BEGIN:STANDARD
TZOFFSETFROM:+0200
TZOFFSETTO:+0100
TZNAME:CET
DTSTART:20241027T010000
END:STANDARD
BEGIN:DAYLIGHT
TZOFFSETFROM:+0100
TZOFFSETTO:+0200
TZNAME:CEST
DTSTART:20250330T010000
END:DAYLIGHT
BEGIN:STANDARD
TZOFFSETFROM:+0200
TZOFFSETTO:+0100
TZNAME:CET
DTSTART:20251026T010000
END:STANDARD
END:VTIMEZONE
BEGIN:VEVENT
DTSTART;TZID=Europe/Berlin:20240725T200400
DTEND;TZID=Europe/Berlin:20240725T205600
DTSTAMP:20260420T174826
CREATED:20240716T135022Z
LAST-MODIFIED:20240716T135022Z
UID:7107-1721937840-1721940960@www.buergerfunk-moers.de
SUMMARY:Aufgaben und Förderprogramm der RAG-Stiftung
DESCRIPTION:Foto: H.Hau \nDer Bergbau hat das Land und die Menschen geprägt. Der Steinkohlen-Bergbau ist Geschichte\, doch das kulturelle Erbe soll für nachfolgende Generationen erhalten bleiben. Das ist eine Herzensangelegenheit für Bärbel Bergerhoff-Wodopia\, Vorstandsmitglied der RAG-Stiftung. Ihr Anspruch u.a.: „Wir verbessern Bildungschancen von Kindern und Jugendlichen.“ Wie das konkret geschieht und welche Ewigkeitsaufgaben die RAG-Stiftung erfüllt\, hat Bärbel Bergerhoff-Wodopia unserem Moderator Harald Hau verraten.
URL:http://www.buergerfunk-moers.de/event/aufgaben-und-foerderprogramm-der-rag-stiftung/
ATTACH;FMTTYPE=image/jpeg:http://www.buergerfunk-moers.de/wp-content/uploads/2024/07/IMG-20240708-WA0001-e1721137760339.jpg
END:VEVENT
END:VCALENDAR