BEGIN:VCALENDAR
VERSION:2.0
PRODID:-//Bürgerfunk Moers - ECPv6.15.11//NONSGML v1.0//EN
CALSCALE:GREGORIAN
METHOD:PUBLISH
X-ORIGINAL-URL:http://www.buergerfunk-moers.de
X-WR-CALDESC:Veranstaltungen für Bürgerfunk Moers
REFRESH-INTERVAL;VALUE=DURATION:PT1H
X-Robots-Tag:noindex
X-PUBLISHED-TTL:PT1H
BEGIN:VTIMEZONE
TZID:Europe/Berlin
BEGIN:DAYLIGHT
TZOFFSETFROM:+0100
TZOFFSETTO:+0200
TZNAME:CEST
DTSTART:20230326T010000
END:DAYLIGHT
BEGIN:STANDARD
TZOFFSETFROM:+0200
TZOFFSETTO:+0100
TZNAME:CET
DTSTART:20231029T010000
END:STANDARD
BEGIN:DAYLIGHT
TZOFFSETFROM:+0100
TZOFFSETTO:+0200
TZNAME:CEST
DTSTART:20240331T010000
END:DAYLIGHT
BEGIN:STANDARD
TZOFFSETFROM:+0200
TZOFFSETTO:+0100
TZNAME:CET
DTSTART:20241027T010000
END:STANDARD
BEGIN:DAYLIGHT
TZOFFSETFROM:+0100
TZOFFSETTO:+0200
TZNAME:CEST
DTSTART:20250330T010000
END:DAYLIGHT
BEGIN:STANDARD
TZOFFSETFROM:+0200
TZOFFSETTO:+0100
TZNAME:CET
DTSTART:20251026T010000
END:STANDARD
END:VTIMEZONE
BEGIN:VEVENT
DTSTART;TZID=Europe/Berlin:20240718T200400
DTEND;TZID=Europe/Berlin:20240718T205600
DTSTAMP:20260420T174824
CREATED:20240714T231000Z
LAST-MODIFIED:20240714T231000Z
UID:7102-1721333040-1721336160@www.buergerfunk-moers.de
SUMMARY:Kneipenchor der "Röhre" in Moers
DESCRIPTION:Foto: Bettina Engel-Albustin \nSingen macht glücklich! Singen bringt Spaß in der lockeren Gemeinschaft. Diese Erfahrung macht der Kneipenchor der „Röhre“ in Moers seit fünf Jahren. Bestätigen können das die Gründungsmitglieder Christopher Schmidt und Annette Kalscheur und darum ihre Empfehlung: „Gründet einen Kneipenchor!“ Wie´s beim Kneipenchor der Röhre funktioniert\, dazu haben die beiden einen Einblick gegeben. Eines ist sicher: singen macht glücklich! Probieren Sie´s mal aus. Auch wenn Sie vielleicht nicht alle Töne treffen\, dafür aber nette Leute. \n  \n 
URL:http://www.buergerfunk-moers.de/event/kneipenchor-der-roehre-in-moers/
ATTACH;FMTTYPE=image/jpeg:http://www.buergerfunk-moers.de/wp-content/uploads/2024/07/20240130_farm-7314-2nfsret_Bo2.jpg
END:VEVENT
END:VCALENDAR