BEGIN:VCALENDAR
VERSION:2.0
PRODID:-//Bürgerfunk Moers - ECPv6.15.11//NONSGML v1.0//EN
CALSCALE:GREGORIAN
METHOD:PUBLISH
X-WR-CALNAME:Bürgerfunk Moers
X-ORIGINAL-URL:http://www.buergerfunk-moers.de
X-WR-CALDESC:Veranstaltungen für Bürgerfunk Moers
REFRESH-INTERVAL;VALUE=DURATION:PT1H
X-Robots-Tag:noindex
X-PUBLISHED-TTL:PT1H
BEGIN:VTIMEZONE
TZID:Europe/Berlin
BEGIN:DAYLIGHT
TZOFFSETFROM:+0100
TZOFFSETTO:+0200
TZNAME:CEST
DTSTART:20230326T010000
END:DAYLIGHT
BEGIN:STANDARD
TZOFFSETFROM:+0200
TZOFFSETTO:+0100
TZNAME:CET
DTSTART:20231029T010000
END:STANDARD
BEGIN:DAYLIGHT
TZOFFSETFROM:+0100
TZOFFSETTO:+0200
TZNAME:CEST
DTSTART:20240331T010000
END:DAYLIGHT
BEGIN:STANDARD
TZOFFSETFROM:+0200
TZOFFSETTO:+0100
TZNAME:CET
DTSTART:20241027T010000
END:STANDARD
BEGIN:DAYLIGHT
TZOFFSETFROM:+0100
TZOFFSETTO:+0200
TZNAME:CEST
DTSTART:20250330T010000
END:DAYLIGHT
BEGIN:STANDARD
TZOFFSETFROM:+0200
TZOFFSETTO:+0100
TZNAME:CET
DTSTART:20251026T010000
END:STANDARD
END:VTIMEZONE
BEGIN:VEVENT
DTSTART;TZID=Europe/Berlin:20240712T200400
DTEND;TZID=Europe/Berlin:20240712T205600
DTSTAMP:20260420T174655
CREATED:20240504T125140Z
LAST-MODIFIED:20240707T203715Z
UID:6787-1720814640-1720817760@www.buergerfunk-moers.de
SUMMARY:Ortsgespräche Rheinberg: Unser Grundwasser
DESCRIPTION:Foto: C.K. \nSauberes Trinkwasser ist ein hohes Gut! Doch es könnte gefährdet sein am Niederrhein. Durch den Salz- und Steinkohlebergbau ist unsere Landschaft um viele Meter abgesackt und das Grundwasser steigt bei Starkregenereignissen in die Keller vieler Häuser. „Schafft es die LINEG\, die Linksniederrheinische Entwässerungs-Genossenschaft\, nicht mehr dagegen anzupumpen und den Grundwasserstand zu halten?“ fragen sich die Hausbesitzer. Felder sind seit Monaten überflutet und für die Landwirtschaft nicht mehr nutzbar\, es bilden sich Seen\, die nicht abfließen können. Außerdem – die hinterlassenen Seen nach dem Kiesabbau sind Einfallstore für Umweltgifte. Mehr dazu in der Sendung.
URL:http://www.buergerfunk-moers.de/event/ortsgespraeche-rheinberg-35/
ATTACH;FMTTYPE=image/jpeg:http://www.buergerfunk-moers.de/wp-content/uploads/2024/05/IMG_20240303_134341-e1720384435947.jpg
END:VEVENT
END:VCALENDAR