BEGIN:VCALENDAR
VERSION:2.0
PRODID:-//Bürgerfunk Moers - ECPv6.15.11//NONSGML v1.0//EN
CALSCALE:GREGORIAN
METHOD:PUBLISH
X-WR-CALNAME:Bürgerfunk Moers
X-ORIGINAL-URL:http://www.buergerfunk-moers.de
X-WR-CALDESC:Veranstaltungen für Bürgerfunk Moers
REFRESH-INTERVAL;VALUE=DURATION:PT1H
X-Robots-Tag:noindex
X-PUBLISHED-TTL:PT1H
BEGIN:VTIMEZONE
TZID:Europe/Berlin
BEGIN:DAYLIGHT
TZOFFSETFROM:+0100
TZOFFSETTO:+0200
TZNAME:CEST
DTSTART:20230326T010000
END:DAYLIGHT
BEGIN:STANDARD
TZOFFSETFROM:+0200
TZOFFSETTO:+0100
TZNAME:CET
DTSTART:20231029T010000
END:STANDARD
BEGIN:DAYLIGHT
TZOFFSETFROM:+0100
TZOFFSETTO:+0200
TZNAME:CEST
DTSTART:20240331T010000
END:DAYLIGHT
BEGIN:STANDARD
TZOFFSETFROM:+0200
TZOFFSETTO:+0100
TZNAME:CET
DTSTART:20241027T010000
END:STANDARD
BEGIN:DAYLIGHT
TZOFFSETFROM:+0100
TZOFFSETTO:+0200
TZNAME:CEST
DTSTART:20250330T010000
END:DAYLIGHT
BEGIN:STANDARD
TZOFFSETFROM:+0200
TZOFFSETTO:+0100
TZNAME:CET
DTSTART:20251026T010000
END:STANDARD
END:VTIMEZONE
BEGIN:VEVENT
DTSTART;TZID=Europe/Berlin:20240709T200400
DTEND;TZID=Europe/Berlin:20240709T205600
DTSTAMP:20260420T174712
CREATED:20240624T181845Z
LAST-MODIFIED:20240705T163615Z
UID:6994-1720555440-1720558560@www.buergerfunk-moers.de
SUMMARY:Highlights beim SC Rheinkamp und die Kommerzialisierung im Amateurfußball
DESCRIPTION:Bild: Lukas Hollenberg \nDer SC Rheinkamp ist ein Traditionsverein aus dem Moerser Norden. In dieser zweiteiligen Sendereihe lernen wir den Verein hinter den Kulissen kennen. Wir sprechen über ernste Themen\, wie die immer größer werdende Kommerzialisierung des Amateurfußballs\, aber auch über die erstklassige Gemeinschaft im Verein. Welche Highlights der Verein zu bieten hat\, das erzählen in dieser Sendung Frank Vallasek\, Trainer der 1. Mannschaft sowie sportlicher Leiter und Justin Holland stellvertretender Jugendobmann. \nMöchten Sie Fußball in einer familiären Gemeinschaft spielen und neue Freundschaften schließen? Dann melden Sie sich oder Ihre Kinder beim SC Rheinkamp. Erster Kontakt ist die Internetseite: www.sc-rheinkamp.de
URL:http://www.buergerfunk-moers.de/event/sc-rheinkamp-teil-2/
ATTACH;FMTTYPE=image/jpeg:http://www.buergerfunk-moers.de/wp-content/uploads/2024/06/IMG_9616-scaled.jpeg
ORGANIZER;CN="AK Moers":MAILTO:info@buergerfunk-radiokw.de
END:VEVENT
END:VCALENDAR