BEGIN:VCALENDAR
VERSION:2.0
PRODID:-//Bürgerfunk Moers - ECPv6.15.11//NONSGML v1.0//EN
CALSCALE:GREGORIAN
METHOD:PUBLISH
X-WR-CALNAME:Bürgerfunk Moers
X-ORIGINAL-URL:http://www.buergerfunk-moers.de
X-WR-CALDESC:Veranstaltungen für Bürgerfunk Moers
REFRESH-INTERVAL;VALUE=DURATION:PT1H
X-Robots-Tag:noindex
X-PUBLISHED-TTL:PT1H
BEGIN:VTIMEZONE
TZID:Europe/Berlin
BEGIN:DAYLIGHT
TZOFFSETFROM:+0100
TZOFFSETTO:+0200
TZNAME:CEST
DTSTART:20230326T010000
END:DAYLIGHT
BEGIN:STANDARD
TZOFFSETFROM:+0200
TZOFFSETTO:+0100
TZNAME:CET
DTSTART:20231029T010000
END:STANDARD
BEGIN:DAYLIGHT
TZOFFSETFROM:+0100
TZOFFSETTO:+0200
TZNAME:CEST
DTSTART:20240331T010000
END:DAYLIGHT
BEGIN:STANDARD
TZOFFSETFROM:+0200
TZOFFSETTO:+0100
TZNAME:CET
DTSTART:20241027T010000
END:STANDARD
BEGIN:DAYLIGHT
TZOFFSETFROM:+0100
TZOFFSETTO:+0200
TZNAME:CEST
DTSTART:20250330T010000
END:DAYLIGHT
BEGIN:STANDARD
TZOFFSETFROM:+0200
TZOFFSETTO:+0100
TZNAME:CET
DTSTART:20251026T010000
END:STANDARD
END:VTIMEZONE
BEGIN:VEVENT
DTSTART;TZID=Europe/Berlin:20240704T200400
DTEND;TZID=Europe/Berlin:20240704T205600
DTSTAMP:20260420T174621
CREATED:20240621T162715Z
LAST-MODIFIED:20240626T155600Z
UID:6977-1720123440-1720126560@www.buergerfunk-moers.de
SUMMARY:Kunst und Musik. Dagmar Albert Horn in der Cubus Kunsthalle Duisburg
DESCRIPTION:Foto: H.Hahues \n30 Jahre Duisburg Lied ist das Thema der Ausstellung über das Leben und Wirken von Dagmar Albert Horn. Der Musiker und Herzensrocker hat etliche Projekte in seinem musikalischen Leben zu Wege gebracht. Sicherlich wird das Highligt sein\, seine Exponate\, die sich mit seiner Musik befassen\, in einer Ausstellung zu würdigen. Dazu kommen in dieser Sendung Frau Dr. Claudia Schäfer\, Armin Klaes\, Ditmar Schädel und Dagmar (Dagi) Horn zu Wort. Sie berichten über die Ausstellung\, die am 7. Juli 2024 eröffnet wird.
URL:http://www.buergerfunk-moers.de/event/kunst-und-musik-dagmar-albert-horn-in-der-cubus-kunsthalle-duisburg/
ATTACH;FMTTYPE=image/jpeg:http://www.buergerfunk-moers.de/wp-content/uploads/2024/06/Cubus-20-Juni-2024-scaled.jpg
ORGANIZER;CN="AK Moers":MAILTO:info@buergerfunk-radiokw.de
END:VEVENT
END:VCALENDAR