BEGIN:VCALENDAR
VERSION:2.0
PRODID:-//Bürgerfunk Moers - ECPv6.15.11//NONSGML v1.0//EN
CALSCALE:GREGORIAN
METHOD:PUBLISH
X-WR-CALNAME:Bürgerfunk Moers
X-ORIGINAL-URL:http://www.buergerfunk-moers.de
X-WR-CALDESC:Veranstaltungen für Bürgerfunk Moers
REFRESH-INTERVAL;VALUE=DURATION:PT1H
X-Robots-Tag:noindex
X-PUBLISHED-TTL:PT1H
BEGIN:VTIMEZONE
TZID:Europe/Berlin
BEGIN:DAYLIGHT
TZOFFSETFROM:+0100
TZOFFSETTO:+0200
TZNAME:CEST
DTSTART:20230326T010000
END:DAYLIGHT
BEGIN:STANDARD
TZOFFSETFROM:+0200
TZOFFSETTO:+0100
TZNAME:CET
DTSTART:20231029T010000
END:STANDARD
BEGIN:DAYLIGHT
TZOFFSETFROM:+0100
TZOFFSETTO:+0200
TZNAME:CEST
DTSTART:20240331T010000
END:DAYLIGHT
BEGIN:STANDARD
TZOFFSETFROM:+0200
TZOFFSETTO:+0100
TZNAME:CET
DTSTART:20241027T010000
END:STANDARD
BEGIN:DAYLIGHT
TZOFFSETFROM:+0100
TZOFFSETTO:+0200
TZNAME:CEST
DTSTART:20250330T010000
END:DAYLIGHT
BEGIN:STANDARD
TZOFFSETFROM:+0200
TZOFFSETTO:+0100
TZNAME:CET
DTSTART:20251026T010000
END:STANDARD
END:VTIMEZONE
BEGIN:VEVENT
DTSTART;TZID=Europe/Berlin:20240702T200400
DTEND;TZID=Europe/Berlin:20240702T205600
DTSTAMP:20260420T174622
CREATED:20240607T153238Z
LAST-MODIFIED:20240630T221139Z
UID:6912-1719950640-1719953760@www.buergerfunk-moers.de
SUMMARY:Kultur-Report
DESCRIPTION:Foto: privat \nKonrad Göke widmet sich wieder ausgewählten Künstler*innen. In dieser Sendung dreht sich alles um Francoise Hardy\, die am 11. Juni 24 gestorben ist. Die französische Sängerin hat auch das deutsche Publikum mit ihrer Stimme verzaubert. Die romantische Seite der Teenager berührte sie mit dem Chanson „Frag den Abendwind“. Viele ihrer Hits schrieb und komponierte sie selber. Zur zweitbeliebtesten Sängerin wählten sie die Leser*innen der Jugendzeitschrift BRAVO im Jahre 1966.
URL:http://www.buergerfunk-moers.de/event/kultur-report-56/
ATTACH;FMTTYPE=image/jpeg:http://www.buergerfunk-moers.de/wp-content/uploads/2020/12/20200201KW-02-e1612305144985.jpg
ORGANIZER;CN="AK Moers":MAILTO:info@buergerfunk-radiokw.de
END:VEVENT
END:VCALENDAR