BEGIN:VCALENDAR
VERSION:2.0
PRODID:-//Bürgerfunk Moers - ECPv6.15.11//NONSGML v1.0//EN
CALSCALE:GREGORIAN
METHOD:PUBLISH
X-WR-CALNAME:Bürgerfunk Moers
X-ORIGINAL-URL:http://www.buergerfunk-moers.de
X-WR-CALDESC:Veranstaltungen für Bürgerfunk Moers
REFRESH-INTERVAL;VALUE=DURATION:PT1H
X-Robots-Tag:noindex
X-PUBLISHED-TTL:PT1H
BEGIN:VTIMEZONE
TZID:Europe/Berlin
BEGIN:DAYLIGHT
TZOFFSETFROM:+0100
TZOFFSETTO:+0200
TZNAME:CEST
DTSTART:20230326T010000
END:DAYLIGHT
BEGIN:STANDARD
TZOFFSETFROM:+0200
TZOFFSETTO:+0100
TZNAME:CET
DTSTART:20231029T010000
END:STANDARD
BEGIN:DAYLIGHT
TZOFFSETFROM:+0100
TZOFFSETTO:+0200
TZNAME:CEST
DTSTART:20240331T010000
END:DAYLIGHT
BEGIN:STANDARD
TZOFFSETFROM:+0200
TZOFFSETTO:+0100
TZNAME:CET
DTSTART:20241027T010000
END:STANDARD
BEGIN:DAYLIGHT
TZOFFSETFROM:+0100
TZOFFSETTO:+0200
TZNAME:CEST
DTSTART:20250330T010000
END:DAYLIGHT
BEGIN:STANDARD
TZOFFSETFROM:+0200
TZOFFSETTO:+0100
TZNAME:CET
DTSTART:20251026T010000
END:STANDARD
END:VTIMEZONE
BEGIN:VEVENT
DTSTART;TZID=Europe/Berlin:20240630T190400
DTEND;TZID=Europe/Berlin:20240630T195600
DTSTAMP:20260420T225540
CREATED:20240607T150758Z
LAST-MODIFIED:20240626T110551Z
UID:6897-1719774240-1719777360@www.buergerfunk-moers.de
SUMMARY:Noah und die coole Arche
DESCRIPTION:Foto: M. Hanewinkel \nIn 2 Wochen sind Ferien\, aber vorher ist noch jede Menge los. Wir berichten über das Kindermusical „Noah und die coole Arche“\, das 24 Moerser Grundschüler in der Evangelischen Stadtkirche einstudieren. Wir hören zu\, wie 12 Jugendliche einer Düsseldorfer Kompositionsklasse das Stück „Willy und das Wunderhandy“ bearbeiten. Wir besuchen die Sonderschau „RESPEKT und Andersartigkeit“ in der Dortmunder Arbeitsweltausstellung\, wir haben einen verrückten Ferienschmökertipp für euch ausgegraben und sprechen kurz nach der Europawahl über die Vorteile\, in EUROPA zu leben.
URL:http://www.buergerfunk-moers.de/event/noah-und-die-coole-arche/
ATTACH;FMTTYPE=image/jpeg:http://www.buergerfunk-moers.de/wp-content/uploads/2024/06/photo-output-scaled-e1718290294548.jpg
ORGANIZER;CN="AK Moers":MAILTO:info@buergerfunk-radiokw.de
END:VEVENT
END:VCALENDAR