BEGIN:VCALENDAR
VERSION:2.0
PRODID:-//Bürgerfunk Moers - ECPv6.15.11//NONSGML v1.0//EN
CALSCALE:GREGORIAN
METHOD:PUBLISH
X-WR-CALNAME:Bürgerfunk Moers
X-ORIGINAL-URL:http://www.buergerfunk-moers.de
X-WR-CALDESC:Veranstaltungen für Bürgerfunk Moers
REFRESH-INTERVAL;VALUE=DURATION:PT1H
X-Robots-Tag:noindex
X-PUBLISHED-TTL:PT1H
BEGIN:VTIMEZONE
TZID:Europe/Berlin
BEGIN:DAYLIGHT
TZOFFSETFROM:+0100
TZOFFSETTO:+0200
TZNAME:CEST
DTSTART:20230326T010000
END:DAYLIGHT
BEGIN:STANDARD
TZOFFSETFROM:+0200
TZOFFSETTO:+0100
TZNAME:CET
DTSTART:20231029T010000
END:STANDARD
BEGIN:DAYLIGHT
TZOFFSETFROM:+0100
TZOFFSETTO:+0200
TZNAME:CEST
DTSTART:20240331T010000
END:DAYLIGHT
BEGIN:STANDARD
TZOFFSETFROM:+0200
TZOFFSETTO:+0100
TZNAME:CET
DTSTART:20241027T010000
END:STANDARD
BEGIN:DAYLIGHT
TZOFFSETFROM:+0100
TZOFFSETTO:+0200
TZNAME:CEST
DTSTART:20250330T010000
END:DAYLIGHT
BEGIN:STANDARD
TZOFFSETFROM:+0200
TZOFFSETTO:+0100
TZNAME:CET
DTSTART:20251026T010000
END:STANDARD
END:VTIMEZONE
BEGIN:VEVENT
DTSTART;TZID=Europe/Berlin:20240620T200400
DTEND;TZID=Europe/Berlin:20240620T205600
DTSTAMP:20260420T192346
CREATED:20240603T105743Z
LAST-MODIFIED:20240617T141622Z
UID:6893-1718913840-1718916960@www.buergerfunk-moers.de
SUMMARY:Rechtliche Betreuung: Das "Persönliche Budget"
DESCRIPTION:Foto: J. Hartings \nMenschen mit Behinderung die Teilhabe an einem selbst bestimmten Leben weitgehendst zu ermöglichen\, das bietet das „Persönliche Budget“. Die Idee dabei: Geld statt Sachleistungen. Alles Wissenswerte berichten Jutta Hartings vom Sozialdienst katholischer Frauen in Moers\, Karin Schuster-Liebenau – Mutter eines geistig behinderten Sohnes und Eckhard Wolf\, Leiter der KoKoBe\, der Koordinierungs-\, Kontakt- und Beratungsstelle für Menschen mit einer geistigen Behinderung und ihren Angehörigen.
URL:http://www.buergerfunk-moers.de/event/rechtliche-betreuung-das-persoenliche-budget/
ATTACH;FMTTYPE=image/jpeg:http://www.buergerfunk-moers.de/wp-content/uploads/2024/06/Radiosendung-das-persoenliche-Budget-2024.06.12-4-scaled.jpg
ORGANIZER;CN="AK Moers":MAILTO:info@buergerfunk-radiokw.de
END:VEVENT
END:VCALENDAR