BEGIN:VCALENDAR
VERSION:2.0
PRODID:-//Bürgerfunk Moers - ECPv6.15.11//NONSGML v1.0//EN
CALSCALE:GREGORIAN
METHOD:PUBLISH
X-WR-CALNAME:Bürgerfunk Moers
X-ORIGINAL-URL:http://www.buergerfunk-moers.de
X-WR-CALDESC:Veranstaltungen für Bürgerfunk Moers
REFRESH-INTERVAL;VALUE=DURATION:PT1H
X-Robots-Tag:noindex
X-PUBLISHED-TTL:PT1H
BEGIN:VTIMEZONE
TZID:Europe/Berlin
BEGIN:DAYLIGHT
TZOFFSETFROM:+0100
TZOFFSETTO:+0200
TZNAME:CEST
DTSTART:20230326T010000
END:DAYLIGHT
BEGIN:STANDARD
TZOFFSETFROM:+0200
TZOFFSETTO:+0100
TZNAME:CET
DTSTART:20231029T010000
END:STANDARD
BEGIN:DAYLIGHT
TZOFFSETFROM:+0100
TZOFFSETTO:+0200
TZNAME:CEST
DTSTART:20240331T010000
END:DAYLIGHT
BEGIN:STANDARD
TZOFFSETFROM:+0200
TZOFFSETTO:+0100
TZNAME:CET
DTSTART:20241027T010000
END:STANDARD
BEGIN:DAYLIGHT
TZOFFSETFROM:+0100
TZOFFSETTO:+0200
TZNAME:CEST
DTSTART:20250330T010000
END:DAYLIGHT
BEGIN:STANDARD
TZOFFSETFROM:+0200
TZOFFSETTO:+0100
TZNAME:CET
DTSTART:20251026T010000
END:STANDARD
END:VTIMEZONE
BEGIN:VEVENT
DTSTART;TZID=Europe/Berlin:20240614T200400
DTEND;TZID=Europe/Berlin:20240614T205600
DTSTAMP:20260420T192421
CREATED:20240607T154249Z
LAST-MODIFIED:20240608T235321Z
UID:6920-1718395440-1718398560@www.buergerfunk-moers.de
SUMMARY:Ortsgespräche Rheinberg: Hochwasserschutz am Niederrhein
DESCRIPTION:Foto C.K. \nIm Regierungsbezirk Düsseldorf übernehmen Deichverbände\, oder teilweise die Kommunen den Hochwasserschutz. Dies geht auf eine lange Tradition zurück\, die im 13ten Jahrhundert entlang des Niederrheins begann. Gemeinschaften schlossen sich zusammen\, um sich vor Hochwasser zu schützen. Die Selbstverwaltungsstrukturen der Deichverbände wurden später gesetzlich verankert. Heute liegt die Verantwortung bei demjenigen\, der die Deiche errichtet hat. Die Kommunen und Verbände sind für den Unterhalt zuständig. Der Deichverband hat die Aufgabe durch den Deichbau\, dessen Sanierung und Unterhaltung\, das Eigentum von Millionen von Menschen\, Unternehmen und unsere Heimat hinter den Deichen vor den Gefahren des Hochwassers zu schützen. Im Extremfall könnte das Wasser bis an die Maas in den Niederlanden fließen. Das war vor den Zeiten des Bergbaus nicht möglich. Doch wer ist zahlungspflichtiges Mitglied des Deichverbandes? Antworten auf diese und weitere Fragen zum Hochwasserschutz vor unserer Haustüre gibt es in der Sendung.
URL:http://www.buergerfunk-moers.de/event/ortsgespraeche-rheinberg-36/
ATTACH;FMTTYPE=image/jpeg:http://www.buergerfunk-moers.de/wp-content/uploads/2024/05/IMG_20240303_144201.jpg
END:VEVENT
END:VCALENDAR