BEGIN:VCALENDAR
VERSION:2.0
PRODID:-//Bürgerfunk Moers - ECPv6.15.11//NONSGML v1.0//EN
CALSCALE:GREGORIAN
METHOD:PUBLISH
X-WR-CALNAME:Bürgerfunk Moers
X-ORIGINAL-URL:http://www.buergerfunk-moers.de
X-WR-CALDESC:Veranstaltungen für Bürgerfunk Moers
REFRESH-INTERVAL;VALUE=DURATION:PT1H
X-Robots-Tag:noindex
X-PUBLISHED-TTL:PT1H
BEGIN:VTIMEZONE
TZID:Europe/Berlin
BEGIN:DAYLIGHT
TZOFFSETFROM:+0100
TZOFFSETTO:+0200
TZNAME:CEST
DTSTART:20230326T010000
END:DAYLIGHT
BEGIN:STANDARD
TZOFFSETFROM:+0200
TZOFFSETTO:+0100
TZNAME:CET
DTSTART:20231029T010000
END:STANDARD
BEGIN:DAYLIGHT
TZOFFSETFROM:+0100
TZOFFSETTO:+0200
TZNAME:CEST
DTSTART:20240331T010000
END:DAYLIGHT
BEGIN:STANDARD
TZOFFSETFROM:+0200
TZOFFSETTO:+0100
TZNAME:CET
DTSTART:20241027T010000
END:STANDARD
BEGIN:DAYLIGHT
TZOFFSETFROM:+0100
TZOFFSETTO:+0200
TZNAME:CEST
DTSTART:20250330T010000
END:DAYLIGHT
BEGIN:STANDARD
TZOFFSETFROM:+0200
TZOFFSETTO:+0100
TZNAME:CET
DTSTART:20251026T010000
END:STANDARD
END:VTIMEZONE
BEGIN:VEVENT
DTSTART;TZID=Europe/Berlin:20240530T190400
DTEND;TZID=Europe/Berlin:20240530T195600
DTSTAMP:20260420T193545
CREATED:20240522T180527Z
LAST-MODIFIED:20240522T234406Z
UID:6857-1717095840-1717098960@www.buergerfunk-moers.de
SUMMARY:Streuobstwiese auf dem Friedhof
DESCRIPTION:Bilder: H.Hau \nWie vielerorts – Bäume sind auf dem Friedhof wichtig. Sie sollen den parkähnlichen Charakter dieses Ortes verstärken und natürlich etwas zum Klimaschutz beitragen. Doch in Neukirchen-Vluyn ist man weitergegangen. Der Friedhof im Ortsteil Neukirchen hat eine Streuobstwiese. Wie es dazu kam\, was da kreucht und fleucht und warum sich Mensch und Tier hier wohlfühlen können\, auch wenn man dieses Gefühl mit einem Friedhof nicht unbedingt in Verbindung bringt\, das hat Pfarrer Frank Rusch unserem Moderator Harald Hau verraten. Interessante Einblicke auf einen Friedhof im Wandel der Zeit.
URL:http://www.buergerfunk-moers.de/event/streuobstwiese-auf-dem-friedhof/
ATTACH;FMTTYPE=image/jpeg:http://www.buergerfunk-moers.de/wp-content/uploads/2024/05/1-2024-05-23-scaled-e1716421200384.jpg
END:VEVENT
END:VCALENDAR